BEGIN:VCALENDAR
PRODID:NingEventWidget-v1
VERSION:2.0
METHOD:PUBLISH
BEGIN:VTIMEZONE
TZID:America/Los_Angeles
X-LIC-LOCATION:America/Los_Angeles
BEGIN:DAYLIGHT
TZOFFSETFROM:-0800
TZOFFSETTO:-0700
TZNAME:PDT
DTSTART:19700308T020000
RRULE:FREQ=YEARLY;BYMONTH=3;BYDAY=2SU
END:DAYLIGHT
BEGIN:STANDARD
TZOFFSETFROM:-0700
TZOFFSETTO:-0800
TZNAME:PST
DTSTART:19701101T020000
RRULE:FREQ=YEARLY;BYMONTH=11;BYDAY=1SU
END:STANDARD
END:VTIMEZONE
BEGIN:VEVENT
UID:1464587:Event:424188
DTSTAMP:20260421T002314Z
SUMMARY:Rebirth Brass Band with The Jazz Mafia's Subharmonic
DESCRIPTION:Rebirth Brass Band \nThe Jazz Mafia's Subharmonic\n\n9PM 
 // 21+ w/ Valid ID \n\nBUY TICKETS\n\nWhether seen on HBO’s Treme o
 r at their legendary Tuesday night gig at The Maple Leaf, Grammy-winni
 ng Rebirth Brass Band is a true New Orleans institution. Formed in 1
 983 by the Frazier brothers, the band has evolved from playing the str
 eets of the French Quarter to playing festivals and stages all over th
 e world. While committed to upholding the tradition of brass bands, th
 ey’ve also extended themselves into the realms of funk and hip-hop t
 o create their signature sound. “Rebirth can be precise whenever it 
 wants to,” says The New York Times, “but it’s more like a party 
 than a machine. It’s a working model of the New Orleans musical etho
 s: as long as everybody knows what they’re doing, anyone can cut loo
 se.” In the wake of the sometimes- stringent competition amongst New
  Orleans brass bands, Rebirth is the undisputed leader of the pack, an
 d they show no signs of slowing down.\n\nFor more information visit ht
 tp://trueskool.com/events/rebirth-brass-band-with-the-jazz-mafia-s-sub
 harmonic
DTSTART;TZID=America/Los_Angeles:20141108T210000
DTEND;TZID=America/Los_Angeles:20141109T020000
CATEGORIES:mezzanine, san, francisco, bay, area, sf, mezzaninesf, soma
LOCATION:Mezzanine, San Francisco, CA
WEBSITE:http://mezzaninesf.com/
URL:http://mezzaninesf.com/
CONTACT:4156258880
ORGANIZER;CN=MezzanineSF:http://trueskool.com/profile/MezzanineSF
ATTACH;FMTTYPE="image/jpeg":http://storage.ning.com/topology/rest/1.0/
 file/get/2247970059?profile=original
ATTENDEE;ROLE=REQ-PARTICIPANT;PARTSTAT=ACCEPTED;RSVP=TRUE;CN=Marcia:ht
 tp://trueskool.com/profile/MarciaG
ATTENDEE;ROLE=REQ-PARTICIPANT;PARTSTAT=ACCEPTED;RSVP=TRUE;CN=Mezzanine
 SF:http://trueskool.com/profile/MezzanineSF
END:VEVENT
END:VCALENDAR
