BEGIN:VCALENDAR
PRODID:NingEventWidget-v1
VERSION:2.0
METHOD:PUBLISH
BEGIN:VTIMEZONE
TZID:America/Los_Angeles
X-LIC-LOCATION:America/Los_Angeles
BEGIN:DAYLIGHT
TZOFFSETFROM:-0800
TZOFFSETTO:-0700
TZNAME:PDT
DTSTART:19700308T020000
RRULE:FREQ=YEARLY;BYMONTH=3;BYDAY=2SU
END:DAYLIGHT
BEGIN:STANDARD
TZOFFSETFROM:-0700
TZOFFSETTO:-0800
TZNAME:PST
DTSTART:19701101T020000
RRULE:FREQ=YEARLY;BYMONTH=11;BYDAY=1SU
END:STANDARD
END:VTIMEZONE
BEGIN:VEVENT
UID:1464587:Event:648156
DTSTAMP:20260420T105733Z
SUMMARY:Rebelution, The Green, J Boog, Stick Figure, Through the Roots
DESCRIPTION:ENTER TO WIN A PAIR OF TICKETS. WINNER WILL BE DRAWN RANDO
 MLY AND ANNOUNCED 2 DAYS PRIOR TO EVENT.   \n TUESDAY, AUG 16 Rebel
 ution The Green, J Boog, Stick Figure, Through the Roots\n@ Greek Thea
 tre-U.C. Berkeley, Berkeley, CA 06:00 PM >> BUY TICKETS\n\n\n\nFor mor
 e information visit http://trueskool.com/events/rebelution-the-green-j
 -boog-stick-figure-through-the-roots
DTSTART;TZID=America/Los_Angeles:20160816T180000
DTEND;TZID=America/Los_Angeles:20160816T230000
CATEGORIES:"bay area", berkeley
LOCATION:Greek Theatre, Berkeley
WEBSITE:http://www.ticketmaster.com/event/1C0050998D201778?camefrom=CF
 C_ANOTHERPLANET_ts&brand=anotherplanet
URL:http://www.ticketmaster.com/event/1C0050998D201778?camefrom=CFC_AN
 OTHERPLANET_ts&brand=anotherplanet
CONTACT:
ORGANIZER:Another Planet Entertainment
ATTACH;FMTTYPE="image/jpeg":http://storage.ning.com/topology/rest/1.0/
 file/get/2247988867?profile=original
ATTENDEE;ROLE=REQ-PARTICIPANT;PARTSTAT=ACCEPTED;RSVP=TRUE;CN="Donte Ha
 rrison":http://trueskool.com/profile/DonteHarrison
ATTENDEE;ROLE=REQ-PARTICIPANT;PARTSTAT=ACCEPTED;RSVP=TRUE;CN="Brianna 
 M. Sylvers":http://trueskool.com/profile/BriannaMSylvers
ATTENDEE;ROLE=REQ-PARTICIPANT;PARTSTAT=ACCEPTED;RSVP=TRUE;CN="Editor's
  Pick":http://trueskool.com/profile/RentheVinylArchaeologist
END:VEVENT
END:VCALENDAR
