BEGIN:VCALENDAR
PRODID:NingEventWidget-v1
VERSION:2.0
METHOD:PUBLISH
BEGIN:VTIMEZONE
TZID:America/Los_Angeles
X-LIC-LOCATION:America/Los_Angeles
BEGIN:DAYLIGHT
TZOFFSETFROM:-0800
TZOFFSETTO:-0700
TZNAME:PDT
DTSTART:19700308T020000
RRULE:FREQ=YEARLY;BYMONTH=3;BYDAY=2SU
END:DAYLIGHT
BEGIN:STANDARD
TZOFFSETFROM:-0700
TZOFFSETTO:-0800
TZNAME:PST
DTSTART:19701101T020000
RRULE:FREQ=YEARLY;BYMONTH=11;BYDAY=1SU
END:STANDARD
END:VTIMEZONE
BEGIN:VEVENT
UID:1464587:Event:798646
DTSTAMP:20260424T045823Z
SUMMARY:Rebelution at Greek Theatre
DESCRIPTION:ENTER TO WIN A PAIR OF TICKETS. WINNER WILL BE DRAWN RANDO
 MLY AND ANNOUNCED 2 DAYS PRIOR TO EVENT.   \r\n\r\n\r\nShow Resched
 uled from 9/4/20\r\nFriday, August 13, 2021\r\nGood Vibes Summer Tour 
 2021\r\nREBELUTION\r\nwith special guests\r\nKabaka Pyramid \r\nKeznam
 di \r\nDJ Mackle\r\n\r\nGreek Theatre Berkeley, CA 2001 Gayley Road Be
 rkeley, CA 94720 Doors: 4:30pm | Show: 6:00pm\r\nThis event is all age
 s.\r\n$47.50 – General Admission\r\n>> BUY TICKETS\r\n\r\n\r\n\r\n*A
 ll patrons are required to show proof of vaccination (must be 2 weeks 
 past final dose) OR a negative COVID-19 test within 48 hours from the 
 time of entry to the venue. Masks are encouraged.  Note that anyone
  arriving without proof of vaccination or negative test will not be al
 lowed to enter the event.\r\n \r\nHere are APE's Health & Safety page
 : https://thegreekberkeley.com/venue-info/health-and-safety/\r\n \r\
 n \n\nFor more information visit http://trueskool.com/events/rebelutio
 n-at-greek-theatre
DTSTART;TZID=America/Los_Angeles:20210813T180000
DTEND;TZID=America/Los_Angeles:20210813T210000
CATEGORIES:"bay area", oakland, "san francisco", "san jose", berkeley
LOCATION:Greek Theatre, Berkeley
WEBSITE:https://thegreekberkeley.com/events/atmosphere-cypress-hill
URL:https://thegreekberkeley.com/events/atmosphere-cypress-hill
CONTACT:
ORGANIZER:Another Planet Ent
ATTACH;FMTTYPE="image/jpeg":https://storage.ning.com/topology/rest/1.0
 /file/get/9069827072?profile=original
ATTENDEE;ROLE=REQ-PARTICIPANT;PARTSTAT=ACCEPTED;RSVP=TRUE;CN="Editor's
  Pick":http://trueskool.com/profile/RentheVinylArchaeologist
ATTENDEE;ROLE=REQ-PARTICIPANT;PARTSTAT=ACCEPTED;RSVP=TRUE;CN="Donte Ha
 rrison":http://trueskool.com/profile/DonteHarrison
ATTENDEE;ROLE=REQ-PARTICIPANT;PARTSTAT=ACCEPTED;RSVP=TRUE;CN="James Mi
 chael Federighi":http://trueskool.com/profile/JamesMichaelFederighi
END:VEVENT
END:VCALENDAR
