BEGIN:VCALENDAR
PRODID:NingEventWidget-v1
VERSION:2.0
METHOD:PUBLISH
BEGIN:VTIMEZONE
TZID:America/Los_Angeles
X-LIC-LOCATION:America/Los_Angeles
BEGIN:DAYLIGHT
TZOFFSETFROM:-0800
TZOFFSETTO:-0700
TZNAME:PDT
DTSTART:19700308T020000
RRULE:FREQ=YEARLY;BYMONTH=3;BYDAY=2SU
END:DAYLIGHT
BEGIN:STANDARD
TZOFFSETFROM:-0700
TZOFFSETTO:-0800
TZNAME:PST
DTSTART:19701101T020000
RRULE:FREQ=YEARLY;BYMONTH=11;BYDAY=1SU
END:STANDARD
END:VTIMEZONE
BEGIN:VEVENT
UID:1464587:Event:606544
DTSTAMP:20260421T011006Z
SUMMARY:Rachelle Ferrell
DESCRIPTION:Rachelle Ferrell\n\nFriday, April 24-26, 2015\nDoors: 7:30
  PM / Show: 8:00 PM\nDoors: 10:15 PM / Show: 10:30 PM\nYoshi's Oak
 land\nOakland, CA\n$35.00\n\n \n\n\n\n\n\nFor more information visit 
 http://trueskool.com/events/rachelle-ferrell
DTSTART;TZID=America/Los_Angeles:20150424T200000
DTEND;TZID=America/Los_Angeles:20150426T234500
CATEGORIES:"san francisco", "san jose", oakland, berkley, "bay area"
LOCATION:Yoshi's, Oakland
WEBSITE:https://www.ticketfly.com/purchase/event/713265
URL:https://www.ticketfly.com/purchase/event/713265
CONTACT:
ORGANIZER;CN="Editor's Pick":http://trueskool.com/profile/RentheVinylA
 rchaeologist
ATTACH;FMTTYPE="image/jpeg":http://storage.ning.com/topology/rest/1.0/
 file/get/2247974114?profile=original
ATTENDEE;ROLE=REQ-PARTICIPANT;PARTSTAT=ACCEPTED;RSVP=TRUE;CN="Editor's
  Pick":http://trueskool.com/profile/RentheVinylArchaeologist
END:VEVENT
END:VCALENDAR
