BEGIN:VCALENDAR
PRODID:NingEventWidget-v1
VERSION:2.0
METHOD:PUBLISH
BEGIN:VTIMEZONE
TZID:America/Los_Angeles
X-LIC-LOCATION:America/Los_Angeles
BEGIN:DAYLIGHT
TZOFFSETFROM:-0800
TZOFFSETTO:-0700
TZNAME:PDT
DTSTART:19700308T020000
RRULE:FREQ=YEARLY;BYMONTH=3;BYDAY=2SU
END:DAYLIGHT
BEGIN:STANDARD
TZOFFSETFROM:-0700
TZOFFSETTO:-0800
TZNAME:PST
DTSTART:19701101T020000
RRULE:FREQ=YEARLY;BYMONTH=11;BYDAY=1SU
END:STANDARD
END:VTIMEZONE
BEGIN:VEVENT
UID:1464587:Event:545025
DTSTAMP:20260420T183131Z
SUMMARY:R. Kelly (Atlanta)
DESCRIPTION:\nDate\nLocation\nEvent Details\nFind Tickets\n\n\n APR 
  \n10\nFRI\n\nColumbus Civic CenterColumbus, GA08:00 PM\n\nR. Kelly\
 nSee Tickets\n\n\n\n\nFor more information visit http://trueskool.com/
 events/r-kelly-atlanta
DTSTART;TZID=America/Los_Angeles:20150410T200000
DTEND;TZID=America/Los_Angeles:20150410T230000
CATEGORIES:atlanta, georgia, atl
LOCATION:Columbus Civic Center, Columbus
WEBSITE:http://www.ticketmaster.com/r-kelly-columbus-georgia-04-10-201
 5/event/0E004E3AE978B3DA?artistid=766948&majorcatid=10001&minorcatid=2
 02&tm_link=artist_msg-0_0E004E3AE978B3DA
URL:http://www.ticketmaster.com/r-kelly-columbus-georgia-04-10-2015/ev
 ent/0E004E3AE978B3DA?artistid=766948&majorcatid=10001&minorcatid=202&t
 m_link=artist_msg-0_0E004E3AE978B3DA
CONTACT:
ORGANIZER;CN="Editor's Pick":http://trueskool.com/profile/RentheVinylA
 rchaeologist
ATTACH;FMTTYPE="image/jpeg":http://storage.ning.com/topology/rest/1.0/
 file/get/2247973577?profile=original
ATTENDEE;ROLE=REQ-PARTICIPANT;PARTSTAT=ACCEPTED;RSVP=TRUE;CN="Editor's
  Pick":http://trueskool.com/profile/RentheVinylArchaeologist
END:VEVENT
END:VCALENDAR
