BEGIN:VCALENDAR
PRODID:NingEventWidget-v1
VERSION:2.0
METHOD:PUBLISH
BEGIN:VTIMEZONE
TZID:America/Los_Angeles
X-LIC-LOCATION:America/Los_Angeles
BEGIN:DAYLIGHT
TZOFFSETFROM:-0800
TZOFFSETTO:-0700
TZNAME:PDT
DTSTART:19700308T020000
RRULE:FREQ=YEARLY;BYMONTH=3;BYDAY=2SU
END:DAYLIGHT
BEGIN:STANDARD
TZOFFSETFROM:-0700
TZOFFSETTO:-0800
TZNAME:PST
DTSTART:19701101T020000
RRULE:FREQ=YEARLY;BYMONTH=11;BYDAY=1SU
END:STANDARD
END:VTIMEZONE
BEGIN:VEVENT
UID:1464587:Event:654704
DTSTAMP:20260421T230129Z
SUMMARY:R&B Only
DESCRIPTION:COLORS Presents: R&B OnlyFREE with RSVP before 10PM+ ARRIV
 E ANYTIME Tickets Available!\n\nQ: What is COLORS?A: COLORS is an even
 t company based in Los Angeles, CA. Our R&B ONLY event is a sexy blend
  of R&B dance music from the 90s until now.\nQ: How should I dress to 
 R&B ONLY?A: Level up.\n\nFor more information visit http://trueskool.c
 om/events/r-b-only
DTSTART;TZID=America/Los_Angeles:20161112T210000
DTEND;TZID=America/Los_Angeles:20161113T020000
CATEGORIES:"san francisco", "bay area"
LOCATION:Mezzanine, San Francisco
WEBSITE:http://colorsrbonlyatmezzanine.eventbrite.com/?aff=trueskool
URL:http://colorsrbonlyatmezzanine.eventbrite.com/?aff=trueskool
CONTACT:4156258880
ORGANIZER;CN=MezzanineSF:http://trueskool.com/profile/MezzanineSF
ATTACH;FMTTYPE="image/jpeg":http://storage.ning.com/topology/rest/1.0/
 file/get/2247991997?profile=original
ATTENDEE;ROLE=REQ-PARTICIPANT;PARTSTAT=ACCEPTED;RSVP=TRUE;CN=Mezzanine
 SF:http://trueskool.com/profile/MezzanineSF
END:VEVENT
END:VCALENDAR
