BEGIN:VCALENDAR
PRODID:NingEventWidget-v1
VERSION:2.0
METHOD:PUBLISH
BEGIN:VTIMEZONE
TZID:America/Los_Angeles
X-LIC-LOCATION:America/Los_Angeles
BEGIN:DAYLIGHT
TZOFFSETFROM:-0800
TZOFFSETTO:-0700
TZNAME:PDT
DTSTART:19700308T020000
RRULE:FREQ=YEARLY;BYMONTH=3;BYDAY=2SU
END:DAYLIGHT
BEGIN:STANDARD
TZOFFSETFROM:-0700
TZOFFSETTO:-0800
TZNAME:PST
DTSTART:19701101T020000
RRULE:FREQ=YEARLY;BYMONTH=11;BYDAY=1SU
END:STANDARD
END:VTIMEZONE
BEGIN:VEVENT
UID:1464587:Event:652409
DTSTAMP:20260420T134556Z
SUMMARY:Quiet Clubbing at Monroe
DESCRIPTION:Famous Headphone All Night Party in San Francisco!. 3 live
  DJs spinning 3 different genres of music all night!. We have another 
 great one going down at this amazing club in the heart of North Beach,
  for a night of music, dancing, and drinks. From 10 2am, there will be
  3 live DJs spinning 3 different genres of music, and you have the pow
 er to pick what you want to party to with the switch on your headphone
 s. Don t like what DJ 1 is playing, you ll have 2 other choices to kee
 p you dancing and having fun! Your 3 DJs will be spinning: DJ 1 (Green
 ): Top 40/ EDM DJ 2 (Red): 80 s, 90 s & 2K Throwbacks DJ 3 (Blue): Hip
  Hop/R&B WHAT MAKES THE NIGHT SPECIAL? - A Pair of Quiet Events Headph
 ones - Glow in the Dark Gear - Hundreds of Quiet Clubbers - $5 Beer & 
 Cocktail Specials from 10pm-11pm - 3 Live DJ s battling for your atten
 tion.\n\nFor more information visit http://trueskool.com/events/quiet-
 clubbing-at-monroe
DTSTART;TZID=America/Los_Angeles:20160819T220000
DTEND;TZID=America/Los_Angeles:20160820T020000
CATEGORIES:music, dance, nightlife, edm, dj, hip, hop, high, energy, f
 unky, big, crowd, "21+"
LOCATION:Monroe SF
WEBSITE:https://www.scenesquid.com/events/quiet-clubbing-at-monroe/579
 fc6dca3dcfc556900000a?referring_publisher=557fcea2808529985700000d
URL:https://www.scenesquid.com/events/quiet-clubbing-at-monroe/579fc6d
 ca3dcfc556900000a?referring_publisher=557fcea2808529985700000d
CONTACT:800-833-9281 ext 705
ORGANIZER:Quiet Events Inc
ATTACH;FMTTYPE="image/jpeg":
ATTENDEE;ROLE=REQ-PARTICIPANT;PARTSTAT=ACCEPTED;RSVP=TRUE;CN="SceneSqu
 id SF Bay":http://trueskool.com/profile/SceneSquidSFBay
END:VEVENT
END:VCALENDAR
