BEGIN:VCALENDAR
PRODID:NingEventWidget-v1
VERSION:2.0
METHOD:PUBLISH
BEGIN:VTIMEZONE
TZID:America/Los_Angeles
X-LIC-LOCATION:America/Los_Angeles
BEGIN:DAYLIGHT
TZOFFSETFROM:-0800
TZOFFSETTO:-0700
TZNAME:PDT
DTSTART:19700308T020000
RRULE:FREQ=YEARLY;BYMONTH=3;BYDAY=2SU
END:DAYLIGHT
BEGIN:STANDARD
TZOFFSETFROM:-0700
TZOFFSETTO:-0800
TZNAME:PST
DTSTART:19701101T020000
RRULE:FREQ=YEARLY;BYMONTH=11;BYDAY=1SU
END:STANDARD
END:VTIMEZONE
BEGIN:VEVENT
UID:1464587:Event:608688
DTSTAMP:20260420T203328Z
SUMMARY:PurpleFunkyFreakyFriday
DESCRIPTION:It's about to GO DOWN in OAKTOWN FRIDAY, MARCH 13!!! Get r
 eady to get FUNKED UP! \nAdvance tickets available through the link be
 low. Get your tickets and get there early! This is a lineup you don't 
 want to miss!Â \n\n* * * * * * * * * * * * * * * * * * * * * * * * * *
  * * * * * * * * * * * *Â \n\nJUST CONFIRMED!!!Â Spooky ElectronicaÂ i
 s gonna get the FUNK flowing and take it to the stage with a special L
 IVE vocal performance!Â \n\nThen get ready forÂ Malcolm Marshall, EDLÂ
  Erika D LawrenceÂ and Star People to tear up the stage and turn up th
 e FUNK. Bring yo dancing' shoes and dance away those Oakland Blues!\n\
 nAnd just when you thought it couldn't get any FUNKIER, DJ Spooky Elec
 tronica returns to spin the grooves that will make your body move. You
 'll be gettin' yo FUNK on to the Music of PRINCE, D'Angelo, Maxwell, O
 utkast, Janelle Monae, A Tribe Called Quest, Zapp, Rick James, Rosie G
 aines, Mary J. Blige, Erykah Badu, P-Funk, Isley Brothers, and all you
 r favorite Purple Funkateers.Â \n\n\nGet your tickets here:Â https://w
 ww.eventbrite.com/e/purple-funky-freaky-friday-dance-party-and-live-pe
 rformance-tickets-6908175539\n\n\nFor more information visit http://tr
 ueskool.com/events/purplefunkyfreakyfriday
DTSTART;TZID=America/Los_Angeles:20150313T210000
DTEND;TZID=America/Los_Angeles:20150314T013000
CATEGORIES:oakland, "bay area"
LOCATION:VENUE Oakland
WEBSITE:https://www.facebook.com/events/896022883789781
URL:https://www.facebook.com/events/896022883789781
CONTACT:
ORGANIZER:Purple Funk OakTown
ATTACH;FMTTYPE="image/jpeg":http://storage.ning.com/topology/rest/1.0/
 file/get/2247975372?profile=original
ATTENDEE;ROLE=REQ-PARTICIPANT;PARTSTAT=ACCEPTED;RSVP=TRUE;CN="Becca Be
 ccaSki":http://trueskool.com/profile/2d1inh84sa1tk
END:VEVENT
END:VCALENDAR
