BEGIN:VCALENDAR
PRODID:NingEventWidget-v1
VERSION:2.0
METHOD:PUBLISH
BEGIN:VTIMEZONE
TZID:America/Los_Angeles
X-LIC-LOCATION:America/Los_Angeles
BEGIN:DAYLIGHT
TZOFFSETFROM:-0800
TZOFFSETTO:-0700
TZNAME:PDT
DTSTART:19700308T020000
RRULE:FREQ=YEARLY;BYMONTH=3;BYDAY=2SU
END:DAYLIGHT
BEGIN:STANDARD
TZOFFSETFROM:-0700
TZOFFSETTO:-0800
TZNAME:PST
DTSTART:19701101T020000
RRULE:FREQ=YEARLY;BYMONTH=11;BYDAY=1SU
END:STANDARD
END:VTIMEZONE
BEGIN:VEVENT
UID:1464587:Event:639401
DTSTAMP:20260420T141055Z
SUMMARY:Protoje
DESCRIPTION:\nENTER TO WIN A PAIR OF TICKETS. WINNER WILL BE DRAWN RAN
 DOMLY AND ANNOUNCED 2 DAYS PRIOR TO EVENT.  \n\n Wednesday, March 16
  2016\nProtoje The Independent San Francisco, CA\nDoors: 8:30 pm / SHO
 W: 9:00 PM>> BUY TICKETS\n\nFor more information visit http://trueskoo
 l.com/events/protoje
DTSTART;TZID=America/Los_Angeles:20160316T203000
DTEND;TZID=America/Los_Angeles:20160316T230000
CATEGORIES:"san francisco", oakland, berkley, "san jose", "bay area"
LOCATION:The Independent, San Francisco
WEBSITE:https://www.ticketfly.com/purchase/event/1020719?_ga=1.2213830
 67.224569474.1445422306
URL:https://www.ticketfly.com/purchase/event/1020719?_ga=1.221383067.2
 24569474.1445422306
CONTACT:
ORGANIZER;CN="Editor's Pick":http://trueskool.com/profile/RentheVinylA
 rchaeologist
ATTACH;FMTTYPE="image/jpeg":http://storage.ning.com/topology/rest/1.0/
 file/get/2247980941?profile=original
ATTENDEE;ROLE=REQ-PARTICIPANT;PARTSTAT=ACCEPTED;RSVP=TRUE;CN=Frost:htt
 p://trueskool.com/profile/Frost
ATTENDEE;ROLE=REQ-PARTICIPANT;PARTSTAT=ACCEPTED;RSVP=TRUE;CN="Katrina 
 Shaw":http://trueskool.com/profile/KatrinaShaw
ATTENDEE;ROLE=REQ-PARTICIPANT;PARTSTAT=ACCEPTED;RSVP=TRUE;CN="Donte Ha
 rrison":http://trueskool.com/profile/DonteHarrison
ATTENDEE;ROLE=REQ-PARTICIPANT;PARTSTAT=ACCEPTED;RSVP=TRUE;CN="Editor's
  Pick":http://trueskool.com/profile/RentheVinylArchaeologist
END:VEVENT
END:VCALENDAR
