BEGIN:VCALENDAR
PRODID:NingEventWidget-v1
VERSION:2.0
METHOD:PUBLISH
BEGIN:VTIMEZONE
TZID:America/Los_Angeles
X-LIC-LOCATION:America/Los_Angeles
BEGIN:DAYLIGHT
TZOFFSETFROM:-0800
TZOFFSETTO:-0700
TZNAME:PDT
DTSTART:19700308T020000
RRULE:FREQ=YEARLY;BYMONTH=3;BYDAY=2SU
END:DAYLIGHT
BEGIN:STANDARD
TZOFFSETFROM:-0700
TZOFFSETTO:-0800
TZNAME:PST
DTSTART:19701101T020000
RRULE:FREQ=YEARLY;BYMONTH=11;BYDAY=1SU
END:STANDARD
END:VTIMEZONE
BEGIN:VEVENT
UID:1464587:Event:406744
DTSTAMP:20260420T183552Z
SUMMARY:Propr Presents DJ CRAZE, The Whooligan, Starship Connection
DESCRIPTION:Get Tickets: www.f8craze.eventbrite.comPropr presents …
 CRAZE ( Slow Roast Records, 3x World DMC Champion, 2x Team DMC Champio
 n )\nThe Whooligan ( Soulection )\nStarship Connection DJ Set ( B. Bra
 vo & Teeko )\nSupport From :DJ Napsty ( Trap City ) , Kashmir ( HGMNY)
 \nHosted by Fran Boogie and Traci P.\nAnother banger brought to you by
  PROPR events in SF. The past 3 events were a huge success with Qbert 
 , Jrocc, Goldenchyld, and Platurn. Now we are teaming up with the Whoo
 ligan (Soulection) to bring you another one of the greatest of all tim
 e. CRAZE is finally coming back to the bay for a long overdue DJ Set. 
 This will be the party of the year! Celebrating the birthdays of Julio
  (Soulection) and Mitch (F8). This event is sure to sellout, so to ens
 ure admission, please purchase a pre-sale ticket. Hosted by Fran Boogi
 e and Traci P.\n$10 Pre-sale tickets available : www.f8craze.eventbri
 te.com\nFor birthday parties and/or reservations please email info@fei
 ghtsf.com.\nAbout Craze:\nCraze’s life is a legacy of rags to riches
 , geek to chic, no-name to world fame. He never had it easy from fleei
 ng battle in Nicaragua at the age of 3 to a geeky adolescence to Hurri
 cane Andrew hitting Miami in 1992 nor did have ever have any coattails
  to ride; his is a story that’s an uphill battle, but a story that e
 nds right at the top. “My mom always taught me I could do anything I
  put my mind to. So when she asked what I wanted to do with my turntab
 les, I told her, ‘Be the best DJ in the world,’” Craze casually 
 laughs. And that he proved 3 times at the DMC World Championships, an 
 unprecedented record, and a title that no other solo DJ has yet to mat
 ch. While Craze is regarded internationally and unquestionably as one 
 of the best scratch DJs in the world, it’s still astonishing to see 
 his overwhelming number of titles on paper: Craze has won first place 
 for the USA DMC Championships in 1998, World ITF Scratch Off Champions
 hips in 1998, ITF Western Hemisphere Scratch Off Championships (1998, 
 ’99), Winter Music Conference Scratch Off Champion (1996, ’97, ’
 98, ’99), East Coast DMC Championships (1997), East Coast Rap Sheet 
 Championships (1996) and Zulu National Championships (1995, ’96), to
  name but a few. Additionally, DJ Craze claimed 2nd place in the first
  DMC Team Championship with his Allies’ crew (which included fellow 
 champions A-Trak and Infamous) in 1999 and then in 2000, the Allies’
  won the Team Championship title, taking it from the previous year’s
  winners the Scratch Perverts.\n“I won the DMC’s when I was 20. I 
 joined the Regionals, won that, Nationals, won that, and then won the 
 Worlds. And I took it from A-Trak that’s right! But he was only like
  15 when I beat him. I was still scared. Then in that year, in ’98 w
 hen I beat A-Trak in the [DMC] Worlds, I didn’t wanna battle no more
  and I thought he’d be the icing on the cake, so instead we formed t
 he Allies and we kicked everybody’s butt. (laughs) Except the [Scrat
 ch] Perverts, they beat us once in the US, but then we came over here 
 to London and we kicked their butt. So hey, payback’s a bitch, Tony!
 ”- Craze\n\n100 !\n\nFor more information visit http://trueskool.com
 /events/propr-presents-dj-craze-the-whooligan-starship-connection
DTSTART;TZID=America/Los_Angeles:20140822T210000
DTEND;TZID=America/Los_Angeles:20140823T030000
CATEGORIES:san, francisco
LOCATION:F8, San Francisco, CA
WEBSITE:http://www.f8craze.eventbrite.com
URL:http://www.f8craze.eventbrite.com
CONTACT:415-857-1192
ORGANIZER;CN=Yoskass:http://trueskool.com/profile/Yoskass
ATTACH;FMTTYPE="image/jpeg":http://storage.ning.com/topology/rest/1.0/
 file/get/2247972746?profile=original
ATTENDEE;ROLE=REQ-PARTICIPANT;PARTSTAT=ACCEPTED;RSVP=TRUE;CN=Yoskass:h
 ttp://trueskool.com/profile/Yoskass
END:VEVENT
END:VCALENDAR
