BEGIN:VCALENDAR
PRODID:NingEventWidget-v1
VERSION:2.0
METHOD:PUBLISH
BEGIN:VTIMEZONE
TZID:America/Los_Angeles
X-LIC-LOCATION:America/Los_Angeles
BEGIN:DAYLIGHT
TZOFFSETFROM:-0800
TZOFFSETTO:-0700
TZNAME:PDT
DTSTART:19700308T020000
RRULE:FREQ=YEARLY;BYMONTH=3;BYDAY=2SU
END:DAYLIGHT
BEGIN:STANDARD
TZOFFSETFROM:-0700
TZOFFSETTO:-0800
TZNAME:PST
DTSTART:19701101T020000
RRULE:FREQ=YEARLY;BYMONTH=11;BYDAY=1SU
END:STANDARD
END:VTIMEZONE
BEGIN:VEVENT
UID:1464587:Event:653037
DTSTAMP:20260420T135541Z
SUMMARY:Prophets of Rage (Public Enemy x Rage Against The Machine x Cy
 press Hill) (WIN TICKETS)
DESCRIPTION:ENTER TO WIN A PAIR OF TICKETS. WINNER WILL BE DRAWN RANDO
 MLY AND ANNOUNCED 2 DAYS PRIOR TO EVENT.   \n\n\nTUESDAY, SEPT 13 Pr
 ophets of Rage\nMake America Rage Again Tour\n\n@ Shoreline Amphitheat
 re, Mountain View, CA\n07:00 PM\n>> BUY TICKETS\n\n\n\nFor more inform
 ation visit http://trueskool.com/events/prophets-of-rage-public-enemy-
 x-rage-against-the-machine-x-cypres
DTSTART;TZID=America/Los_Angeles:20160913T190000
DTEND;TZID=America/Los_Angeles:20160913T230000
CATEGORIES:"bay area", "san francisco"
LOCATION:Shoreline Amphitheatre, Mountain View
WEBSITE:http://bit.ly/ProphetsShoreline
URL:http://bit.ly/ProphetsShoreline
CONTACT:
ORGANIZER:Live Nation
ATTACH;FMTTYPE="image/jpeg":http://storage.ning.com/topology/rest/1.0/
 file/get/2247990284?profile=original
ATTENDEE;ROLE=REQ-PARTICIPANT;PARTSTAT=ACCEPTED;RSVP=TRUE;CN="Jon Schr
 oeder":http://trueskool.com/profile/JonSchroeder
ATTENDEE;ROLE=REQ-PARTICIPANT;PARTSTAT=ACCEPTED;RSVP=TRUE;CN="Editor's
  Pick":http://trueskool.com/profile/RentheVinylArchaeologist
END:VEVENT
END:VCALENDAR
