BEGIN:VCALENDAR
PRODID:NingEventWidget-v1
VERSION:2.0
METHOD:PUBLISH
BEGIN:VTIMEZONE
TZID:America/Los_Angeles
X-LIC-LOCATION:America/Los_Angeles
BEGIN:DAYLIGHT
TZOFFSETFROM:-0800
TZOFFSETTO:-0700
TZNAME:PDT
DTSTART:19700308T020000
RRULE:FREQ=YEARLY;BYMONTH=3;BYDAY=2SU
END:DAYLIGHT
BEGIN:STANDARD
TZOFFSETFROM:-0700
TZOFFSETTO:-0800
TZNAME:PST
DTSTART:19701101T020000
RRULE:FREQ=YEARLY;BYMONTH=11;BYDAY=1SU
END:STANDARD
END:VTIMEZONE
BEGIN:VEVENT
UID:1464587:Event:297246
DTSTAMP:20260420T194132Z
SUMMARY:Project One Presents || KiloWatts || Plantrae || Bedrockk || D
 uffrey Fri. (1/24)
DESCRIPTION:$5 before 11PM || $10 after\n KiloWatts (Street Ritual)  I
 n the wake of a singular bolt of lightning from beyond, KiloWatts has 
 released his accumulated energy that has electrified ears and souls fo
 r over a decade. Utilizing an eco-friendly rechargeable solution, his 
 chosen power-up stations reside in the minds of his listeners around t
 he globe. It remains a revelation for electronic music to express the 
 full depth of soul within the confines of the digital format, yet Kilo
 Watts achieves this effortlessly. The music beckons the expression of 
 divinity, with reverence, inside his careful and precise compositions.
    Plantrae (Street Ritual) Plantrae is an intricate, energetic and b
 iotic sound experience originating deep in the rainforests of cascadia
 . It is composed of a bass rooted, stretchy midtempo foundation and li
 ve viola improvisation that embodies the spirited essence of classical
 , swing and folk. Seeking to unite organic melody and intricate electr
 onics, Plantrae also encourages the listener to delve deep into the hu
 myn ethos, back to a time when we lived as one with the earth.  Bedroc
 kk (Dirty // Clean) Bedrockk is bass//soul//music. Currently based out
  of the Bay Area via Denver, producer/singer/guitarist Dave Marquess m
 akes futuristic r&b with original vocals to create a sound he can trul
 y call his own. As the co-founder of SF/Denver based label, Dirty//Cle
 an, he has formed a crew of like-minded artists who always strive to p
 ush the bar in their productions.   Duffrey (Street Ritual) Duffrey i
 s an electronic music producer with a insatiable hunger for brain tick
 ling soundscapes and funky bass. Combining rich instrumentation with c
 omplex sound design, he paints pictures of faraway places with his sou
 nds. \n\nFor more information visit http://trueskool.com/events/proje
 ct-one-presents-kilowatts-plantrae-bedrockk-duffrey-fri-1-24
DTSTART;TZID=America/Los_Angeles:20140124T220000
DTEND;TZID=America/Los_Angeles:20140125T020000
CATEGORIES:san, francisco, bay, area, california
LOCATION:Project One, San Francsico
WEBSITE:https://www.facebook.com/events/676989078988504/
URL:https://www.facebook.com/events/676989078988504/
CONTACT:
ORGANIZER:Mighty SF
ATTACH;FMTTYPE="image/jpeg":http://storage.ning.com/topology/rest/1.0/
 file/get/2247956596?profile=original
ATTENDEE;ROLE=REQ-PARTICIPANT;PARTSTAT=ACCEPTED;RSVP=TRUE;CN="Alexandr
 a Alden":http://trueskool.com/profile/AlexandraAlden
END:VEVENT
END:VCALENDAR
