BEGIN:VCALENDAR
PRODID:NingEventWidget-v1
VERSION:2.0
METHOD:PUBLISH
BEGIN:VTIMEZONE
TZID:America/Los_Angeles
X-LIC-LOCATION:America/Los_Angeles
BEGIN:DAYLIGHT
TZOFFSETFROM:-0800
TZOFFSETTO:-0700
TZNAME:PDT
DTSTART:19700308T020000
RRULE:FREQ=YEARLY;BYMONTH=3;BYDAY=2SU
END:DAYLIGHT
BEGIN:STANDARD
TZOFFSETFROM:-0700
TZOFFSETTO:-0800
TZNAME:PST
DTSTART:19701101T020000
RRULE:FREQ=YEARLY;BYMONTH=11;BYDAY=1SU
END:STANDARD
END:VTIMEZONE
BEGIN:VEVENT
UID:1464587:Event:651988
DTSTAMP:20260420T135505Z
SUMMARY:Private Club Records Tour Featuring: MadeinTYO Salma Slims, My
 NamePhin, Noah Wood$
DESCRIPTION:ENTER TO WIN A PAIR OF TICKETS. WINNER WILL BE DRAWN RANDO
 MLY AND ANNOUNCED 2 DAYS PRIOR TO EVENT.    \n\nWednesday Sep 28, 
 2016\nThe UC Theatre presents Private Club Records Tour \nFeaturing M
 adeinTYO, Salma Slims, MyNamePhin, Noah Wood$ plus special guests\n@ 
 The UC Theatre Taube Family Music Hall 2036 University Avenue, Berkele
 y, CA Doors: 7:00 PM  Show: 8:00 PM $21.50 - $71.50 >> BUY TICKETS\n\
 n\nFor more information visit http://trueskool.com/events/private-club
 -records-tour-featuring-madeintyo-salma-slims-mynamep
DTSTART;TZID=America/Los_Angeles:20160928T190000
DTEND;TZID=America/Los_Angeles:20160928T230000
CATEGORIES:"bay area", berkeley
LOCATION:UC Theatre, Berkeley
WEBSITE:https://www.ticketfly.com/purchase/event/1249075
URL:https://www.ticketfly.com/purchase/event/1249075
CONTACT:
ORGANIZER:UC Theatre
ATTACH;FMTTYPE="image/jpeg":http://storage.ning.com/topology/rest/1.0/
 file/get/2247989673?profile=original
ATTENDEE;ROLE=REQ-PARTICIPANT;PARTSTAT=ACCEPTED;RSVP=TRUE;CN="Editor's
  Pick":http://trueskool.com/profile/RentheVinylArchaeologist
END:VEVENT
END:VCALENDAR
