BEGIN:VCALENDAR
PRODID:NingEventWidget-v1
VERSION:2.0
METHOD:PUBLISH
BEGIN:VTIMEZONE
TZID:America/Los_Angeles
X-LIC-LOCATION:America/Los_Angeles
BEGIN:DAYLIGHT
TZOFFSETFROM:-0800
TZOFFSETTO:-0700
TZNAME:PDT
DTSTART:19700308T020000
RRULE:FREQ=YEARLY;BYMONTH=3;BYDAY=2SU
END:DAYLIGHT
BEGIN:STANDARD
TZOFFSETFROM:-0700
TZOFFSETTO:-0800
TZNAME:PST
DTSTART:19701101T020000
RRULE:FREQ=YEARLY;BYMONTH=11;BYDAY=1SU
END:STANDARD
END:VTIMEZONE
BEGIN:VEVENT
UID:1464587:Event:499550
DTSTAMP:20260420T165918Z
SUMMARY:Prince and MJ Experience
DESCRIPTION: SATURDAY, DEC 20 Prince and MJ Experience at Public Works
  Prince and Michael Jackson fans celebrate as DJ Dave Paul plays music
  from the two artists as well as songs by ancillary acts.\n@ Public Wo
 rks, 161 Erie St. (off Mission btw Duboce & 14th). Advance tickets at 
 http://prmj122014.eventbrite.com/ $10 cash at the door\nMistress of Ce
 remonies - GiGi  Photography - Dirk Wyse\nCollectively, Prince and Mic
 hael Jackson helped define the early-'80s era of MTV, revolutionized b
 oth R&B and popular music, and influenced thousands of musicians world
 wide. This party pays tribute to two of the greatest artists of our ti
 me.\n\nFor more information visit http://trueskool.com/events/prince-a
 nd-mj-experience
DTSTART;TZID=America/Los_Angeles:20141220T220000
DTEND;TZID=America/Los_Angeles:20141221T020000
CATEGORIES:"bay area", "san francisco"
LOCATION:Public Works, SF
WEBSITE:http://prmj122014.eventbrite.com/
URL:http://prmj122014.eventbrite.com/
CONTACT:
ORGANIZER:Dave Paul
ATTACH;FMTTYPE="image/jpeg":http://storage.ning.com/topology/rest/1.0/
 file/get/2247971935?profile=original
ATTENDEE;ROLE=REQ-PARTICIPANT;PARTSTAT=ACCEPTED;RSVP=TRUE;CN="Editor's
  Pick":http://trueskool.com/profile/RentheVinylArchaeologist
END:VEVENT
END:VCALENDAR
