BEGIN:VCALENDAR
PRODID:NingEventWidget-v1
VERSION:2.0
METHOD:PUBLISH
BEGIN:VTIMEZONE
TZID:America/Los_Angeles
X-LIC-LOCATION:America/Los_Angeles
BEGIN:DAYLIGHT
TZOFFSETFROM:-0800
TZOFFSETTO:-0700
TZNAME:PDT
DTSTART:19700308T020000
RRULE:FREQ=YEARLY;BYMONTH=3;BYDAY=2SU
END:DAYLIGHT
BEGIN:STANDARD
TZOFFSETFROM:-0700
TZOFFSETTO:-0800
TZNAME:PST
DTSTART:19701101T020000
RRULE:FREQ=YEARLY;BYMONTH=11;BYDAY=1SU
END:STANDARD
END:VTIMEZONE
BEGIN:VEVENT
UID:1464587:Event:627049
DTSTAMP:20260421T033908Z
SUMMARY:Prince and MJ Experience - Oakland
DESCRIPTION:Prince and Michael Jackson fans celebrate on the dance flo
 or as DJ Dave Paul returns to XOXO Nightclub (the venue formerly known
  as Vitus) to plays hits, album cuts, b-sides and remixes from the two
  artists as well as songs by ancillary acts.   XOXO Nightclub 201 Broa
 dway (Jack London Square) Oakland, CA 94607 $8 advance, $10 door / 21+
  w ID  Advance tickets at http://prmj050915tix.eventbrite.com/  Collec
 tively, Prince and Michael Jackson helped define the early-'80s era of
  MTV, revolutionized both R&B and popular music, and influenced thousa
 nds of musicians worldwide. This dance party pays tribute to two of th
 e greatest artists of our time.\n\n\nFor more information visit http:/
 /trueskool.com/events/prince-and-mj-experience-oakland
DTSTART;TZID=America/Los_Angeles:20150509T210000
DTEND;TZID=America/Los_Angeles:20150510T014500
CATEGORIES:oakland
LOCATION:XOXO Nightclub, Oakland
WEBSITE:https://www.facebook.com/events/806539142772733
URL:https://www.facebook.com/events/806539142772733
CONTACT:
ORGANIZER;CN="Dave Paul":http://trueskool.com/profile/DavePaul
ATTACH;FMTTYPE="image/jpeg":http://storage.ning.com/topology/rest/1.0/
 file/get/2247966628?profile=original
ATTENDEE;ROLE=REQ-PARTICIPANT;PARTSTAT=ACCEPTED;RSVP=TRUE;CN="Dave Pau
 l":http://trueskool.com/profile/DavePaul
END:VEVENT
END:VCALENDAR
