BEGIN:VCALENDAR
PRODID:NingEventWidget-v1
VERSION:2.0
METHOD:PUBLISH
BEGIN:VTIMEZONE
TZID:America/Los_Angeles
X-LIC-LOCATION:America/Los_Angeles
BEGIN:DAYLIGHT
TZOFFSETFROM:-0800
TZOFFSETTO:-0700
TZNAME:PDT
DTSTART:19700308T020000
RRULE:FREQ=YEARLY;BYMONTH=3;BYDAY=2SU
END:DAYLIGHT
BEGIN:STANDARD
TZOFFSETFROM:-0700
TZOFFSETTO:-0800
TZNAME:PST
DTSTART:19701101T020000
RRULE:FREQ=YEARLY;BYMONTH=11;BYDAY=1SU
END:STANDARD
END:VTIMEZONE
BEGIN:VEVENT
UID:1464587:Event:623205
DTSTAMP:20260420T214423Z
SUMMARY:Prince and MJ Experience - Berkeley Underground
DESCRIPTION:Prince and Michael Jackson fans celebrate on the dance flo
 or as DJ Dave Paul returns to Berkeley Underground to plays hits, albu
 m cuts, b-sides and remixes from the two artists as well as songs by a
 ncillary acts.   Advance tickets at https://prmj032815tix.eventbrite.c
 om/  Berkeley Underground 2284 Shattuck Ave. in Downtown Berkeley betw
 een Allston Way & Kittredge Street  Berkeley, CA 94704 $8 advance, $10
  door / 21+ w ID  Collectively, Prince and Michael Jackson helped defi
 ne the early-'80s era of MTV, revolutionized both R&B and popular musi
 c, and influenced thousands of musicians worldwide. This dance party p
 ays tribute to two of the greatest artists of our time.\n\nMore info a
 t https://www.facebook.com/events/382879275211750\n\nFor more informat
 ion visit http://trueskool.com/events/prince-and-mj-experience-berkele
 y-underground
DTSTART;TZID=America/Los_Angeles:20150328T210000
DTEND;TZID=America/Los_Angeles:20150329T020000
CATEGORIES:berkeley
LOCATION:Berkeley Underground, Berkeley, CA
WEBSITE:https://prmj032815tix.eventbrite.com
URL:https://prmj032815tix.eventbrite.com
CONTACT:
ORGANIZER;CN="Dave Paul":http://trueskool.com/profile/DavePaul
ATTACH;FMTTYPE="image/jpeg":http://storage.ning.com/topology/rest/1.0/
 file/get/2247974911?profile=original
ATTENDEE;ROLE=REQ-PARTICIPANT;PARTSTAT=ACCEPTED;RSVP=TRUE;CN="Dave Pau
 l":http://trueskool.com/profile/DavePaul
END:VEVENT
END:VCALENDAR
