BEGIN:VCALENDAR
PRODID:NingEventWidget-v1
VERSION:2.0
METHOD:PUBLISH
BEGIN:VTIMEZONE
TZID:America/Los_Angeles
X-LIC-LOCATION:America/Los_Angeles
BEGIN:DAYLIGHT
TZOFFSETFROM:-0800
TZOFFSETTO:-0700
TZNAME:PDT
DTSTART:19700308T020000
RRULE:FREQ=YEARLY;BYMONTH=3;BYDAY=2SU
END:DAYLIGHT
BEGIN:STANDARD
TZOFFSETFROM:-0700
TZOFFSETTO:-0800
TZNAME:PST
DTSTART:19701101T020000
RRULE:FREQ=YEARLY;BYMONTH=11;BYDAY=1SU
END:STANDARD
END:VTIMEZONE
BEGIN:VEVENT
UID:1464587:Event:533165
DTSTAMP:20260420T210039Z
SUMMARY:Prince and MJ Experience at Neck of the Woods
DESCRIPTION:\nMarch 14th - Kings of Theme present The Prince and Micha
 el Jackson Experience with DJ Dave Paul playing hits, album cuts, b-si
 des and remixes from the two artists as well as songs by ancillary act
 s. Neck of the Woods, 406 Clement St, San Francisco, CA 94118. Between
  5th & 6th Ave - Inner Richmond District.\n $8 Advance tickets http://
 bso.sh/mj_march_14 $10 Cash at the door / 9pm - 1:30am  Collectively, 
 Prince and Michael Jackson helped define the early-'80s era of MTV, re
 volutionized both R&B and popular music, and influenced thousands of m
 usicians worldwide. This party pays tribute to two of the greatest art
 ists of our time.  more info athttps://www.facebook.com/events/8300745
 40389046\n\nFor more information visit http://trueskool.com/events/pri
 nce-and-mj-experience-at-neck-of-the-woods
DTSTART;TZID=America/Los_Angeles:20150314T210000
DTEND;TZID=America/Los_Angeles:20150315T013000
CATEGORIES:san, francisco, neck, of, the, woods
LOCATION:Neck of the Woods, San Francisco, CA
WEBSITE:https://www.facebook.com/events/830074540389046
URL:https://www.facebook.com/events/830074540389046
CONTACT:(415) 387-6343
ORGANIZER;CN="Dave Paul":http://trueskool.com/profile/DavePaul
ATTACH;FMTTYPE="image/jpeg":http://storage.ning.com/topology/rest/1.0/
 file/get/2247966628?profile=original
ATTENDEE;ROLE=REQ-PARTICIPANT;PARTSTAT=ACCEPTED;RSVP=TRUE;CN="Dave Pau
 l":http://trueskool.com/profile/DavePaul
END:VEVENT
END:VCALENDAR
