BEGIN:VCALENDAR
PRODID:NingEventWidget-v1
VERSION:2.0
METHOD:PUBLISH
BEGIN:VTIMEZONE
TZID:America/Los_Angeles
X-LIC-LOCATION:America/Los_Angeles
BEGIN:DAYLIGHT
TZOFFSETFROM:-0800
TZOFFSETTO:-0700
TZNAME:PDT
DTSTART:19700308T020000
RRULE:FREQ=YEARLY;BYMONTH=3;BYDAY=2SU
END:DAYLIGHT
BEGIN:STANDARD
TZOFFSETFROM:-0700
TZOFFSETTO:-0800
TZNAME:PST
DTSTART:19701101T020000
RRULE:FREQ=YEARLY;BYMONTH=11;BYDAY=1SU
END:STANDARD
END:VTIMEZONE
BEGIN:VEVENT
UID:1464587:Event:655179
DTSTAMP:20260421T220828Z
SUMMARY:Prince and Michael Experience
DESCRIPTION:Prince and Michael Jackson fans celebrate on the dance flo
 or every 1st Saturday of the month as DJ Dave Play plays album cuts, b
 -sides, un-released tracks, remixes and the hits from the two artists 
 as well as songs by such ancillary acts as Sheila E., The Jackson 5, T
 he Time and Janet Jackson.Madrone Art Bar / 500 Divisadero at Fell / 8
 pm / $5 / 21+14 Year Anniversary Celebration. Party #333 Collectively
 , Prince and Michael Jackson helped define the early-'80s era of MTV, 
 revolutionized both R&B and popular music, and influenced thousands of
  musicians worldwide. This party pays tribute to two of the greatest a
 rtists of our time. The music is far from the only thing happening at 
 this party, there's theme dancing, a face-off between guests repping T
 he Purple One or The King of Pop, and much, much more. This is the per
 fect night out to lounge with your friends, make some new friends, get
  your drink on, dance your @ss off and have the time of your life.\n\n
 For more information visit http://trueskool.com/events/prince-and-mich
 ael-experience
DTSTART;TZID=America/Los_Angeles:20161105T200000
DTEND;TZID=America/Los_Angeles:20161106T014500
CATEGORIES:san, francisco
LOCATION:Madrone Art Bar, San Francisco, CA
WEBSITE:https://www.facebook.com/events/313388845705156/
URL:https://www.facebook.com/events/313388845705156/
CONTACT:
ORGANIZER;CN="Dave Paul":http://trueskool.com/profile/DavePaul
ATTACH;FMTTYPE="image/jpeg":http://storage.ning.com/topology/rest/1.0/
 file/get/2247992260?profile=original
ATTENDEE;ROLE=REQ-PARTICIPANT;PARTSTAT=ACCEPTED;RSVP=TRUE;CN="Dave Pau
 l":http://trueskool.com/profile/DavePaul
END:VEVENT
END:VCALENDAR
