BEGIN:VCALENDAR
PRODID:NingEventWidget-v1
VERSION:2.0
METHOD:PUBLISH
BEGIN:VTIMEZONE
TZID:America/Los_Angeles
X-LIC-LOCATION:America/Los_Angeles
BEGIN:DAYLIGHT
TZOFFSETFROM:-0800
TZOFFSETTO:-0700
TZNAME:PDT
DTSTART:19700308T020000
RRULE:FREQ=YEARLY;BYMONTH=3;BYDAY=2SU
END:DAYLIGHT
BEGIN:STANDARD
TZOFFSETFROM:-0700
TZOFFSETTO:-0800
TZNAME:PST
DTSTART:19701101T020000
RRULE:FREQ=YEARLY;BYMONTH=11;BYDAY=1SU
END:STANDARD
END:VTIMEZONE
BEGIN:VEVENT
UID:1464587:Event:654368
DTSTAMP:20260422T003811Z
SUMMARY:PRETTY LIGHTS (WIN TICKETS)
DESCRIPTION: ENTER TO WIN A PAIR OF TICKETS. WINNER WILL BE DRAWN RAND
 OMLY AND ANNOUNCED 2 DAYS PRIOR TO EVENT.  \n\nFriday, November 11, 
 2016\nPRETTY LIGHTS Chris Karns, Big Wild\nCITY NATIONAL CIVIC 135 Wes
 t San Carlos Street\nSan Jose, CA 95113\nDoors: 7:00PM |Show: 8:00PM\n
 >> BUY TICKETS\n\n\n\nFor more information visit http://trueskool.com/
 events/pretty-lights
DTSTART;TZID=America/Los_Angeles:20161111T200000
DTEND;TZID=America/Los_Angeles:20161111T230000
CATEGORIES:"san francisco", oakland, berkley, "san jose", "bay area"
LOCATION:CITY NATIONAL CIVIC, San Jose
WEBSITE:http://www.axs.com/events/314439/pretty-lights-tickets?skin=go
 ldenvoice
URL:http://www.axs.com/events/314439/pretty-lights-tickets?skin=golden
 voice
CONTACT:
ORGANIZER:Goldenvoice
ATTACH;FMTTYPE="image/jpeg":http://storage.ning.com/topology/rest/1.0/
 file/get/2247991650?profile=original
ATTENDEE;ROLE=REQ-PARTICIPANT;PARTSTAT=ACCEPTED;RSVP=TRUE;CN="Editor's
  Pick":http://trueskool.com/profile/RentheVinylArchaeologist
END:VEVENT
END:VCALENDAR
