BEGIN:VCALENDAR
PRODID:NingEventWidget-v1
VERSION:2.0
METHOD:PUBLISH
BEGIN:VTIMEZONE
TZID:America/Los_Angeles
X-LIC-LOCATION:America/Los_Angeles
BEGIN:DAYLIGHT
TZOFFSETFROM:-0800
TZOFFSETTO:-0700
TZNAME:PDT
DTSTART:19700308T020000
RRULE:FREQ=YEARLY;BYMONTH=3;BYDAY=2SU
END:DAYLIGHT
BEGIN:STANDARD
TZOFFSETFROM:-0700
TZOFFSETTO:-0800
TZNAME:PST
DTSTART:19701101T020000
RRULE:FREQ=YEARLY;BYMONTH=11;BYDAY=1SU
END:STANDARD
END:VTIMEZONE
BEGIN:VEVENT
UID:1464587:Event:448784
DTSTAMP:20260423T035427Z
SUMMARY:Premiere of \"G.A.M.E\"
DESCRIPTION:GAME%20press%20release.docx\n \n\n\nFor more information 
 visit http://trueskool.com/events/premiere-of-g-a-m-e
DTSTART;TZID=America/Los_Angeles:20141030T193000
DTEND;TZID=America/Los_Angeles:20141030T220000
CATEGORIES:"g.a.m.e", "killah krome", "mykal rose"
LOCATION:Sunrise Multiplex Cinemas, Valley Stream, NY
WEBSITE:
URL:
CONTACT:
ORGANIZER;CN="Lea Simpson":http://trueskool.com/profile/LeaSimpson
ATTACH;FMTTYPE="image/jpeg":http://storage.ning.com/topology/rest/1.0/
 file/get/2247969393?profile=original
ATTENDEE;ROLE=REQ-PARTICIPANT;PARTSTAT=ACCEPTED;RSVP=TRUE;CN="Lea Simp
 son":http://trueskool.com/profile/LeaSimpson
END:VEVENT
END:VCALENDAR
