BEGIN:VCALENDAR
PRODID:NingEventWidget-v1
VERSION:2.0
METHOD:PUBLISH
BEGIN:VTIMEZONE
TZID:America/Los_Angeles
X-LIC-LOCATION:America/Los_Angeles
BEGIN:DAYLIGHT
TZOFFSETFROM:-0800
TZOFFSETTO:-0700
TZNAME:PDT
DTSTART:19700308T020000
RRULE:FREQ=YEARLY;BYMONTH=3;BYDAY=2SU
END:DAYLIGHT
BEGIN:STANDARD
TZOFFSETFROM:-0700
TZOFFSETTO:-0800
TZNAME:PST
DTSTART:19701101T020000
RRULE:FREQ=YEARLY;BYMONTH=11;BYDAY=1SU
END:STANDARD
END:VTIMEZONE
BEGIN:VEVENT
UID:1464587:Event:302471
DTSTAMP:20260420T143130Z
SUMMARY:Prefuse 73 Playing at 1015 Club w/ Nosaj Thing & FaltyDL
DESCRIPTION:Hello Everyone! I wanted to let you all know about somethi
 ng cool going down tonight at the 1015 club in San Francisco with Pref
 use 73, Nosaj Thing and FaltyDL. Aside from the fact that they are al
 l going to put on an awesome show, Prefuse 73 has a special treat for 
 those attending: he's debuting a new track exclusively on Blend, whic
 h people can hear and also download for their own sampling/remixing pu
 rposes.\n\nRecently, Prefuse 73 joined forces with Blend (http://blend
 .io), a network for musicians and producers to share in-progress music
  and connect with new collaborators and fans.  During the tour, Prefu
 se 73 will have Dropcards available containing a special URL and invi
 te code to the unreleased track on Blend. This will allow fans and as
 piring collaborators to listen to the track, give feedback or pull the
  Ableton project files to make their own remix and then publish them b
 ack up to Blend.\n\nIf you have friends going or are attending yourse
 lf, feel free to tweet this out so everyone knows to be on the lookou
 t for the Dropcards and snag their VIP invite :)\n\nFor more informati
 on visit http://trueskool.com/events/prefuse-73-playing-at-1015-club-w
 -nosaj-thing-faltydl
DTSTART;TZID=America/Los_Angeles:20140123T220000
DTEND;TZID=America/Los_Angeles:20140124T020000
CATEGORIES:san, francisco, 1015, club
LOCATION:1015, San Francisco
WEBSITE:http://www.eventbrite.com/e/nosaj-thing-prefuse-73-faltydl-tic
 kets-9410594341?aff=slider
URL:http://www.eventbrite.com/e/nosaj-thing-prefuse-73-faltydl-tickets
 -9410594341?aff=slider
CONTACT:(415) 431-1200
ORGANIZER:
ATTACH;FMTTYPE="image/jpeg":http://storage.ning.com/topology/rest/1.0/
 file/get/2247956715?profile=original
ATTENDEE;ROLE=REQ-PARTICIPANT;PARTSTAT=ACCEPTED;RSVP=TRUE;CN=Selena:ht
 tp://trueskool.com/profile/Selena
END:VEVENT
END:VCALENDAR
