BEGIN:VCALENDAR
PRODID:NingEventWidget-v1
VERSION:2.0
METHOD:PUBLISH
BEGIN:VTIMEZONE
TZID:America/Los_Angeles
X-LIC-LOCATION:America/Los_Angeles
BEGIN:DAYLIGHT
TZOFFSETFROM:-0800
TZOFFSETTO:-0700
TZNAME:PDT
DTSTART:19700308T020000
RRULE:FREQ=YEARLY;BYMONTH=3;BYDAY=2SU
END:DAYLIGHT
BEGIN:STANDARD
TZOFFSETFROM:-0700
TZOFFSETTO:-0800
TZNAME:PST
DTSTART:19701101T020000
RRULE:FREQ=YEARLY;BYMONTH=11;BYDAY=1SU
END:STANDARD
END:VTIMEZONE
BEGIN:VEVENT
UID:1464587:Event:455222
DTSTAMP:20260421T002513Z
SUMMARY:Pre-Halloween Jump Off w/ Ren the Vinyl Archaeologist
DESCRIPTION:THURSDAY, OCT 30Pre-Halloween Jump Off\nFeaturing:Ren the 
 Vinyl Archaeologist\n\n@ Luka's Lounge 2221 Broadway, Oakland10pm-2am 
 | 21+\nInfo: www.lukasoakland.com/\n\n\nFor more information visit ht
 tp://trueskool.com/events/pre-halloween-jump-off-w-ren-the-vinyl-archa
 eologist
DTSTART;TZID=America/Los_Angeles:20141030T220000
DTEND;TZID=America/Los_Angeles:20141031T140000
CATEGORIES:"bay area", oakland
LOCATION:Luka's Taproom & Lounge, Oakland
WEBSITE:http://www.lukasoakland.com/
URL:http://www.lukasoakland.com/
CONTACT:
ORGANIZER:Luka's
ATTACH;FMTTYPE="image/jpeg":http://storage.ning.com/topology/rest/1.0/
 file/get/2247969150?profile=original
ATTENDEE;ROLE=REQ-PARTICIPANT;PARTSTAT=ACCEPTED;RSVP=TRUE;CN="Editor's
  Pick":http://trueskool.com/profile/RentheVinylArchaeologist
END:VEVENT
END:VCALENDAR
