BEGIN:VCALENDAR
PRODID:NingEventWidget-v1
VERSION:2.0
METHOD:PUBLISH
BEGIN:VTIMEZONE
TZID:America/Los_Angeles
X-LIC-LOCATION:America/Los_Angeles
BEGIN:DAYLIGHT
TZOFFSETFROM:-0800
TZOFFSETTO:-0700
TZNAME:PDT
DTSTART:19700308T020000
RRULE:FREQ=YEARLY;BYMONTH=3;BYDAY=2SU
END:DAYLIGHT
BEGIN:STANDARD
TZOFFSETFROM:-0700
TZOFFSETTO:-0800
TZNAME:PST
DTSTART:19701101T020000
RRULE:FREQ=YEARLY;BYMONTH=11;BYDAY=1SU
END:STANDARD
END:VTIMEZONE
BEGIN:VEVENT
UID:1464587:Event:57203
DTSTAMP:20260421T081735Z
SUMMARY:Power Struggle CD (Remittances) Release
DESCRIPTION:\n\nBeatrock Music and Oh Dang Magazine Presents:\n\nPOWER
  STRUGGLE\n\n*REMITTANCES*\n\nCD RELEASE PARTY\n\n-Power Struggle\nw/S
 pecial Guests\n-Otayo Dubb & The Counterparts\n-Dirty Boots feat. Deni
 zen Kane\n-DJ Wonway Posibul\n\nFriday, June, 4\nPier 23, SF\n$10, 9pm
 \n\nFor more information visit http://trueskool.com/events/power-strug
 gle-cd-remittances
DTSTART;TZID=America/Los_Angeles:20100604T210000
DTEND;TZID=America/Los_Angeles:20100605T020000
CATEGORIES:hip, hop
LOCATION:Pier 23, San Francisco, CA
WEBSITE:http://www.pier23cafe.com/
URL:http://www.pier23cafe.com/
CONTACT:
ORGANIZER;CN=Yahmays:http://trueskool.com/profile/Yahmays
ATTACH;FMTTYPE="image/jpeg":http://storage.ning.com/topology/rest/1.0/
 file/get/2247878550?profile=original
ATTENDEE;ROLE=REQ-PARTICIPANT;PARTSTAT=ACCEPTED;RSVP=TRUE;CN=Yahmays:h
 ttp://trueskool.com/profile/Yahmays
END:VEVENT
END:VCALENDAR
