BEGIN:VCALENDAR
PRODID:NingEventWidget-v1
VERSION:2.0
METHOD:PUBLISH
BEGIN:VTIMEZONE
TZID:America/Los_Angeles
X-LIC-LOCATION:America/Los_Angeles
BEGIN:DAYLIGHT
TZOFFSETFROM:-0800
TZOFFSETTO:-0700
TZNAME:PDT
DTSTART:19700308T020000
RRULE:FREQ=YEARLY;BYMONTH=3;BYDAY=2SU
END:DAYLIGHT
BEGIN:STANDARD
TZOFFSETFROM:-0700
TZOFFSETTO:-0800
TZNAME:PST
DTSTART:19701101T020000
RRULE:FREQ=YEARLY;BYMONTH=11;BYDAY=1SU
END:STANDARD
END:VTIMEZONE
BEGIN:VEVENT
UID:1464587:Event:82811
DTSTAMP:20260420T120005Z
SUMMARY:Pos Tapes Vol.II Record/Video Release Party
DESCRIPTION:<iframe width=\"560\" height=\"349\" src=\"http://www.yout
 ube.com/embed/ZpZHkC7c-e4\" frameborder=\"0\" allowfullscreen></iframe
 > \n\n\nWe at One League Ent. have an interesting one for you this ti
 me. This particular event takes place on the date of the biblical apoc
 alypse: 5-21-11. Hopefully we will live to see another day. But if we 
 don't, we had one hell of a finale.Event Info:...We will be premiering
  the new BPos video for \"Dope.\" This is a Tony Rain Production on th
 is vid (www.strivefilms.com). Holler at that link and see what it is.T
 here will also be live performances by: BPos (www.bposmusic.us),Akil, 
 Otayo Dubb (www.beatrockmusic.com), Tahaj the First (DrumDealerMusic)A
 bout Pos Tapes:Pos Tapes is a Trilogy of mixtapes being created by, Sa
 n Francsico's own, BPos (Goodword, D-Wiz, Johnny Venetti) of One Leagu
 e Entertainment. Each mixtape features beats from one producer. The Be
 ats for Volume One (Sept, 2010) were done entirely by Big Shawn (Bored
  Stiff). The Beats for Volume Two (May, 2011) have been done entirely 
 by Tahaj the First (DrumDealerMusic). Aside from the featured producer
 , Volume 2 also features a large assortment of Talented artists such a
 s Khafre, Spank Pops, SoundEarth, Gedeon, Akil, Equipto, Valentina Ros
 e, Z-Man, Big Shawn, Seneca, Mazta i, Tahaj the First, & Tess. Now for
  the most important part...These full length Mixtapes/albums are avail
 able for free download for a limited time upon release at www.bposmusi
 c.usSee More\n\n\n\n\n\n\n\n\n\n\n\n\n\nFor more information visit htt
 p://trueskool.com/events/pos-tapes-volii-recordvideo
DTSTART;TZID=America/Los_Angeles:20110521T210000
DTEND;TZID=America/Los_Angeles:20110522T020000
CATEGORIES:bay, area, san, francisco, ca
LOCATION:John Colins, San Francisco, CA
WEBSITE:http://www.johncolins.com
URL:http://www.johncolins.com
CONTACT:
ORGANIZER:One League Ent.
ATTACH;FMTTYPE="image/jpeg":http://storage.ning.com/topology/rest/1.0/
 file/get/2247896018?profile=original
ATTENDEE;ROLE=REQ-PARTICIPANT;PARTSTAT=ACCEPTED;RSVP=TRUE;CN=Goodword:
 http://trueskool.com/profile/Goodword
END:VEVENT
END:VCALENDAR
