BEGIN:VCALENDAR
PRODID:NingEventWidget-v1
VERSION:2.0
METHOD:PUBLISH
BEGIN:VTIMEZONE
TZID:America/Los_Angeles
X-LIC-LOCATION:America/Los_Angeles
BEGIN:DAYLIGHT
TZOFFSETFROM:-0800
TZOFFSETTO:-0700
TZNAME:PDT
DTSTART:19700308T020000
RRULE:FREQ=YEARLY;BYMONTH=3;BYDAY=2SU
END:DAYLIGHT
BEGIN:STANDARD
TZOFFSETFROM:-0700
TZOFFSETTO:-0800
TZNAME:PST
DTSTART:19701101T020000
RRULE:FREQ=YEARLY;BYMONTH=11;BYDAY=1SU
END:STANDARD
END:VTIMEZONE
BEGIN:VEVENT
UID:1464587:Event:63884
DTSTAMP:20260420T151942Z
SUMMARY:PON DI FLOOR - ROUND 2!!!
DESCRIPTION:\n\nSURE TO BE ANOTHER NIGHT OF TROUBLE ON THE DANCEFLOOR.
 ..\nSATURDAY, AUGUST 28TH\nFEVER SF & DEECEE'S SOUL SHAKEDOWN PRESENT:
 \n\"PON DI FLOOR!\" SUMMER EDITION!\n\nSick of hearing the same old sh
 it @ the club?? Do you like BASS?? Need something you can get LOW to??
  Would you rather sweat it out at the club than the gym??\n\nWE GOTCHO
 O!!\n\n\"Pon Di Floor\" is a party dedicated to BASS and BOOTY beats, 
 carefully selected and delivered by some of SF's finest local DJ talen
 t....\n\nDJ's for this second installment of PDF are\n\n:: JAH YZER ::
  (repping JWS and SF to the fullest, this champion reggae selecta will
  be dipping into his MIAMI roots and delivering that raw uncut Miami B
 ass shit!!)\n\n:: SHANE KING :: (Hacksaw ent. representative and taste
 maker extraordinaire, this homies selection and knowledge of club musi
 c is scientifically proven to make you get BUCK)\n\n:: MR. LUCKY :: (y
 ou may know him from his \"Skylarking\" party, but don't get it twiste
 d, Diego is no stranger to dance music and will be bringing the HEAT!)
 \n\n:: DJ THEORY :: (general troublemaker, scratch DJ for the 49ers, a
 nd booty curator)\n\n>>> CLUB IS OPEN TIL 4AM <<<<\n\nDRINK SPECIALS A
 LL NIGHT, DOPE SOUND AND LIGHTING, NO BULLSHIT\n\nonly $5 before 11 / 
 $10 after\n**LADIES FREE BEFORE 11!!**\n\nCracks off @ 10pm\nDRESS TO 
 SWEAT\n21+ only\n\nPARADISE LOUNGE\n1501 FOLSOM ST (@11TH)\n\n(If you'
 re planning on bringing a crew of ladies, celebrating a bday, or want 
 to reserve a table please contact us at feversfevents@gmail.com)\n\nDo
 wnload \"PON DI FLOOR\" mixed by DJ THEORY for FREE below:\nhttp://sou
 ndcloud.com/deejaytheory/pon-di-floor-mixed-by-dj-theory\n\nWE'LL SEE 
 ALL YOU FINE PEOPLE PON DI FLOOR!!!!!!!!!!!!!!!!!!!!!!\n\nFor more inf
 ormation visit http://trueskool.com/events/pon-di-floor-round-2-1
DTSTART;TZID=America/Los_Angeles:20100828T180000
DTEND;TZID=America/Los_Angeles:20100829T040000
CATEGORIES:bay, area
LOCATION:Paradise Lounge
WEBSITE:http://paradisesf.com
URL:http://paradisesf.com
CONTACT:
ORGANIZER;CN="Deejay Theory":http://trueskool.com/profile/DJTheory
ATTACH;FMTTYPE="image/jpeg":http://storage.ning.com/topology/rest/1.0/
 file/get/2247883682?profile=original
ATTENDEE;ROLE=REQ-PARTICIPANT;PARTSTAT=ACCEPTED;RSVP=TRUE;CN="Deejay T
 heory":http://trueskool.com/profile/DJTheory
END:VEVENT
END:VCALENDAR
