BEGIN:VCALENDAR
PRODID:NingEventWidget-v1
VERSION:2.0
METHOD:PUBLISH
BEGIN:VTIMEZONE
TZID:America/Los_Angeles
X-LIC-LOCATION:America/Los_Angeles
BEGIN:DAYLIGHT
TZOFFSETFROM:-0800
TZOFFSETTO:-0700
TZNAME:PDT
DTSTART:19700308T020000
RRULE:FREQ=YEARLY;BYMONTH=3;BYDAY=2SU
END:DAYLIGHT
BEGIN:STANDARD
TZOFFSETFROM:-0700
TZOFFSETTO:-0800
TZNAME:PST
DTSTART:19701101T020000
RRULE:FREQ=YEARLY;BYMONTH=11;BYDAY=1SU
END:STANDARD
END:VTIMEZONE
BEGIN:VEVENT
UID:1464587:Event:55560
DTSTAMP:20260422T023902Z
SUMMARY:Pitbull (Win Tickets)
DESCRIPTION:CLICK HERE TO WIN A PAIR OF TICKETS:\nhttp://www.trueskool
 .com/group/wintickets\n\n\nSATURDAY, MAY 29\nGolden Voice presents\nPi
 tbull\n\n@ The Warfield, 982 Market St., San Francisco\nShow time: 8:0
 0pm. Door time: 7:00pm.\nAge: All Ages+ Buy Tickets\nInfo: http://www.
 goldenvoice.com\n\n\nFor more information visit http://trueskool.com/e
 vents/pitbull-win-tickets-1
DTSTART;TZID=America/Los_Angeles:20100529T200000
DTEND;TZID=America/Los_Angeles:20100529T230000
CATEGORIES:reggaeton, dancehall, hip, hop
LOCATION:The Warfield, San Francisco, CA
WEBSITE:http://www.goldenvoice.com
URL:http://www.goldenvoice.com
CONTACT:
ORGANIZER:Golden Voice
ATTACH;FMTTYPE="image/jpeg":http://storage.ning.com/topology/rest/1.0/
 file/get/2106907883?profile=original
ATTENDEE;ROLE=REQ-PARTICIPANT;PARTSTAT=ACCEPTED;RSVP=TRUE;CN="Ren the 
 Vinyl Archaeologist":http://trueskool.com/profile/xh51jvilojur
END:VEVENT
END:VCALENDAR
