BEGIN:VCALENDAR
PRODID:NingEventWidget-v1
VERSION:2.0
METHOD:PUBLISH
BEGIN:VTIMEZONE
TZID:America/Los_Angeles
X-LIC-LOCATION:America/Los_Angeles
BEGIN:DAYLIGHT
TZOFFSETFROM:-0800
TZOFFSETTO:-0700
TZNAME:PDT
DTSTART:19700308T020000
RRULE:FREQ=YEARLY;BYMONTH=3;BYDAY=2SU
END:DAYLIGHT
BEGIN:STANDARD
TZOFFSETFROM:-0700
TZOFFSETTO:-0800
TZNAME:PST
DTSTART:19701101T020000
RRULE:FREQ=YEARLY;BYMONTH=11;BYDAY=1SU
END:STANDARD
END:VTIMEZONE
BEGIN:VEVENT
UID:1464587:Event:82771
DTSTAMP:20260420T152223Z
SUMMARY:Pigeon John, Chicharones, Rocky Rivera (WIN TICKETS)
DESCRIPTION:CLICK HERE TO WIN A PAIR OF TICKETS:\nhttp://www.trueskool
 .com/group/wintickets\n\n\nPigeon John, Chicharones, Rocky Rivera\n \
 n@ Rockit Room,\n406 Clement Street (between 5th and 6th ave)San Franc
 isco, CA 94118\n10.00 Presale. $ 12.00 Door\nBuy Tickets\n\nFor more 
 information visit http://trueskool.com/events/pigeon-john-chicharones-
 rocky
DTSTART;TZID=America/Los_Angeles:20110505T210000
DTEND;TZID=America/Los_Angeles:20110506T020000
CATEGORIES:bay, area, san, francisco, ca
LOCATION:Rock It Room, San Francisco
WEBSITE:http://pigeonjohnsf.eventbrite.com/
URL:http://pigeonjohnsf.eventbrite.com/
CONTACT:
ORGANIZER:Rockit Room
ATTACH;FMTTYPE="image/jpeg":http://storage.ning.com/topology/rest/1.0/
 file/get/2247895914?profile=original
ATTENDEE;ROLE=REQ-PARTICIPANT;PARTSTAT=ACCEPTED;RSVP=TRUE;CN="Ren the 
 Vinyl Archaeologist":http://trueskool.com/profile/xh51jvilojur
END:VEVENT
END:VCALENDAR
