BEGIN:VCALENDAR
PRODID:NingEventWidget-v1
VERSION:2.0
METHOD:PUBLISH
BEGIN:VTIMEZONE
TZID:America/Los_Angeles
X-LIC-LOCATION:America/Los_Angeles
BEGIN:DAYLIGHT
TZOFFSETFROM:-0800
TZOFFSETTO:-0700
TZNAME:PDT
DTSTART:19700308T020000
RRULE:FREQ=YEARLY;BYMONTH=3;BYDAY=2SU
END:DAYLIGHT
BEGIN:STANDARD
TZOFFSETFROM:-0700
TZOFFSETTO:-0800
TZNAME:PST
DTSTART:19701101T020000
RRULE:FREQ=YEARLY;BYMONTH=11;BYDAY=1SU
END:STANDARD
END:VTIMEZONE
BEGIN:VEVENT
UID:1464587:Event:261175
DTSTAMP:20260420T201421Z
SUMMARY:Pharoah Sanders Quartet
DESCRIPTION:Pharoah Sanders Quartet\nJan 03-Jan 5, 2014\n\nFriday, Jan
 uary 38pm $32 & 10pm $26\nSaturday, January 47:30pm $35 & 9:30pm $29\n
 Sunday, January 57pm $32\n\nFor more information visit http://trueskoo
 l.com/events/pharoah-sanders-quartet-4
DTSTART;TZID=America/Los_Angeles:20140105T190000
DTEND;TZID=America/Los_Angeles:20140105T203000
CATEGORIES:oakland
LOCATION:Yoshi's, Oakland
WEBSITE:http://yoshis.inticketing.com/events/350090/Sun%207pm%20-%20PH
 AROAH%20SANDERS
URL:http://yoshis.inticketing.com/events/350090/Sun%207pm%20-%20PHAROA
 H%20SANDERS
CONTACT:
ORGANIZER;CN="Editor's Pick":http://trueskool.com/profile/RentheVinylA
 rchaeologist
ATTACH;FMTTYPE="image/jpeg":http://storage.ning.com/topology/rest/1.0/
 file/get/2247951383?profile=original
ATTENDEE;ROLE=REQ-PARTICIPANT;PARTSTAT=ACCEPTED;RSVP=TRUE;CN="Editor's
  Pick":http://trueskool.com/profile/RentheVinylArchaeologist
END:VEVENT
END:VCALENDAR
