BEGIN:VCALENDAR
PRODID:NingEventWidget-v1
VERSION:2.0
METHOD:PUBLISH
BEGIN:VTIMEZONE
TZID:America/Los_Angeles
X-LIC-LOCATION:America/Los_Angeles
BEGIN:DAYLIGHT
TZOFFSETFROM:-0800
TZOFFSETTO:-0700
TZNAME:PDT
DTSTART:19700308T020000
RRULE:FREQ=YEARLY;BYMONTH=3;BYDAY=2SU
END:DAYLIGHT
BEGIN:STANDARD
TZOFFSETFROM:-0700
TZOFFSETTO:-0800
TZNAME:PST
DTSTART:19701101T020000
RRULE:FREQ=YEARLY;BYMONTH=11;BYDAY=1SU
END:STANDARD
END:VTIMEZONE
BEGIN:VEVENT
UID:1464587:Event:650722
DTSTAMP:20260420T102954Z
SUMMARY:Pete Escovedo ft. Juan and Peter Michael Escovedo
DESCRIPTION:Legendary Percussionist Pete Escovedo is an artist who bro
 ke down the barriers between Smooth Jazz, Salsa, Latin Jazz and contem
 porary music. His name has been synonymous in the music industry for m
 ore than 50 years. Pete is known worldwide for his live performances, 
 session work and solo albums.As a young boy he would sit on the steps 
 of nightclubs and watch musicians play. Music became his outlet. When 
 he was 15 years old he began to also sketch and paint on wood or cardb
 oard. Anything he could get his hands on, he would start to draw.Pete 
 did not know that his love for music and art combined would change his
  life forever. And this is how it began.\n\n\n\nFor more information v
 isit http://trueskool.com/events/pete-escovedo-ft-juan-and-peter-micha
 el-escovedo
DTSTART;TZID=America/Los_Angeles:20160716T200000
DTEND;TZID=America/Los_Angeles:20160716T230000
CATEGORIES:berkeley, "bay area", latin, "birthday party"
LOCATION:The UC Theatre, Berkeley, CA
WEBSITE:http://www.theuctheatre.org/event/1209639-pete-escovedo-ft-jua
 n-peter-berkeley/
URL:http://www.theuctheatre.org/event/1209639-pete-escovedo-ft-juan-pe
 ter-berkeley/
CONTACT:510-356-4000
ORGANIZER;CN="The UC Theatre":http://trueskool.com/profile/TheUCTheatr
 e
ATTACH;FMTTYPE="image/jpeg":http://storage.ning.com/topology/rest/1.0/
 file/get/2247990022?profile=original
ATTENDEE;ROLE=REQ-PARTICIPANT;PARTSTAT=ACCEPTED;RSVP=TRUE;CN="The UC T
 heatre":http://trueskool.com/profile/TheUCTheatre
END:VEVENT
END:VCALENDAR
