BEGIN:VCALENDAR
PRODID:NingEventWidget-v1
VERSION:2.0
METHOD:PUBLISH
BEGIN:VTIMEZONE
TZID:America/Los_Angeles
X-LIC-LOCATION:America/Los_Angeles
BEGIN:DAYLIGHT
TZOFFSETFROM:-0800
TZOFFSETTO:-0700
TZNAME:PDT
DTSTART:19700308T020000
RRULE:FREQ=YEARLY;BYMONTH=3;BYDAY=2SU
END:DAYLIGHT
BEGIN:STANDARD
TZOFFSETFROM:-0700
TZOFFSETTO:-0800
TZNAME:PST
DTSTART:19701101T020000
RRULE:FREQ=YEARLY;BYMONTH=11;BYDAY=1SU
END:STANDARD
END:VTIMEZONE
BEGIN:VEVENT
UID:1464587:Event:647265
DTSTAMP:20260421T011015Z
SUMMARY:People Under The Stairs
DESCRIPTION:PEOPLE UNDER THE STAIRS\nMelina Jones, Deejay Julicio\nWhe
 n: Thursday, Apr 21, 2016 9:00 PMTicket Price: $20.00 - $25.00Door Tim
 e: 8:00 PMRestrictions: 18 & overUnder 21 must buy $5 non-alcoholic dr
 ink ticket at the door.\n\nFor more information visit http://trueskool
 .com/events/people-under-the-stairs-2
DTSTART;TZID=America/Los_Angeles:20160421T210000
DTEND;TZID=America/Los_Angeles:20160421T230000
CATEGORIES:"san francisco", oakland, berkley, "san jose", "bay area"
LOCATION:New Parish, Oakland
WEBSITE:http://thenewparish.com/event.cfm?id=232689&cart
URL:http://thenewparish.com/event.cfm?id=232689&cart
CONTACT:
ORGANIZER;CN="Editor's Pick":http://trueskool.com/profile/RentheVinylA
 rchaeologist
ATTACH;FMTTYPE="image/jpeg":http://storage.ning.com/topology/rest/1.0/
 file/get/2247987966?profile=original
ATTENDEE;ROLE=REQ-PARTICIPANT;PARTSTAT=ACCEPTED;RSVP=TRUE;CN="Editor's
  Pick":http://trueskool.com/profile/RentheVinylArchaeologist
END:VEVENT
END:VCALENDAR
