BEGIN:VCALENDAR
PRODID:NingEventWidget-v1
VERSION:2.0
METHOD:PUBLISH
BEGIN:VTIMEZONE
TZID:America/Los_Angeles
X-LIC-LOCATION:America/Los_Angeles
BEGIN:DAYLIGHT
TZOFFSETFROM:-0800
TZOFFSETTO:-0700
TZNAME:PDT
DTSTART:19700308T020000
RRULE:FREQ=YEARLY;BYMONTH=3;BYDAY=2SU
END:DAYLIGHT
BEGIN:STANDARD
TZOFFSETFROM:-0700
TZOFFSETTO:-0800
TZNAME:PST
DTSTART:19701101T020000
RRULE:FREQ=YEARLY;BYMONTH=11;BYDAY=1SU
END:STANDARD
END:VTIMEZONE
BEGIN:VEVENT
UID:1464587:Event:404484
DTSTAMP:20260420T135541Z
SUMMARY:Peanut Butter Wolf w/ MOM DJs Gordo Cabeza & Timoteo Gigante
DESCRIPTION: SATURDAY AUG 23\nMonarch & MOM DJS presents: \nPeanut But
 ter Wolf\nDonovan Gordo Cabeza  Timoteo Gigante \nDJ Jacob Guillermo P
 eña\nMonarch 101 6th St, San Francisco, California 94103\nGet tickets
 : http://ticketf.ly/1nQ9K89\n\n\nFor more information visit http://tru
 eskool.com/events/peanut-butter-wolf-w-mom-djs-gordo-cabeza-timoteo-gi
 gante
DTSTART;TZID=America/Los_Angeles:20140823T210000
DTEND;TZID=America/Los_Angeles:20140824T020000
CATEGORIES:"bay area", "san francisco"
LOCATION:Monarch, San Francisco
WEBSITE:http://www.ticketfly.com/purchase/event/641297?utm_source=fbTf
 ly&utm_medium=ampEvent
URL:http://www.ticketfly.com/purchase/event/641297?utm_source=fbTfly&u
 tm_medium=ampEvent
CONTACT:
ORGANIZER:Monarch & MOM DJs
ATTACH;FMTTYPE="image/jpeg":http://storage.ning.com/topology/rest/1.0/
 file/get/2247968886?profile=original
ATTENDEE;ROLE=REQ-PARTICIPANT;PARTSTAT=ACCEPTED;RSVP=TRUE;CN="Staff Pi
 ck":http://trueskool.com/profile/Ren
END:VEVENT
END:VCALENDAR
