BEGIN:VCALENDAR
PRODID:NingEventWidget-v1
VERSION:2.0
METHOD:PUBLISH
BEGIN:VTIMEZONE
TZID:America/Los_Angeles
X-LIC-LOCATION:America/Los_Angeles
BEGIN:DAYLIGHT
TZOFFSETFROM:-0800
TZOFFSETTO:-0700
TZNAME:PDT
DTSTART:19700308T020000
RRULE:FREQ=YEARLY;BYMONTH=3;BYDAY=2SU
END:DAYLIGHT
BEGIN:STANDARD
TZOFFSETFROM:-0700
TZOFFSETTO:-0800
TZNAME:PST
DTSTART:19701101T020000
RRULE:FREQ=YEARLY;BYMONTH=11;BYDAY=1SU
END:STANDARD
END:VTIMEZONE
BEGIN:VEVENT
UID:1464587:Event:554478
DTSTAMP:20260420T214442Z
SUMMARY:Patti LaBelle (New Orleans)
DESCRIPTION:\nDate\nLocation\nEvent Details\nFind Tickets\n\n\nMAR  
 \n6\nFRI\n\nJackson Convention ComplexJackson, MS08:00 PM\n\nPatti La
 Belle \nSee Tickets\n\n\n\n\nFor more information visit http://truesk
 ool.com/events/patti-labelle-new-orleans
DTSTART;TZID=America/Los_Angeles:20150306T200000
DTEND;TZID=America/Los_Angeles:20150306T230000
CATEGORIES:"new orleans", louisiana, la
LOCATION:Jackson Convention Complex, Jackson MS
WEBSITE:http://www.ticketmaster.com/patti-labelle-jackson-mississippi-
 03-06-2015/event/1B004D9D021C757C?artistid=735480&majorcatid=10001&min
 orcatid=202&tm_link=artist_msg-0_1B004D9D021C757C
URL:http://www.ticketmaster.com/patti-labelle-jackson-mississippi-03-0
 6-2015/event/1B004D9D021C757C?artistid=735480&majorcatid=10001&minorca
 tid=202&tm_link=artist_msg-0_1B004D9D021C757C
CONTACT:
ORGANIZER;CN="Editor's Pick":http://trueskool.com/profile/RentheVinylA
 rchaeologist
ATTACH;FMTTYPE="image/jpeg":http://storage.ning.com/topology/rest/1.0/
 file/get/2247973039?profile=original
ATTENDEE;ROLE=REQ-PARTICIPANT;PARTSTAT=ACCEPTED;RSVP=TRUE;CN="Editor's
  Pick":http://trueskool.com/profile/RentheVinylArchaeologist
END:VEVENT
END:VCALENDAR
