BEGIN:VCALENDAR
PRODID:NingEventWidget-v1
VERSION:2.0
METHOD:PUBLISH
BEGIN:VTIMEZONE
TZID:America/Los_Angeles
X-LIC-LOCATION:America/Los_Angeles
BEGIN:DAYLIGHT
TZOFFSETFROM:-0800
TZOFFSETTO:-0700
TZNAME:PDT
DTSTART:19700308T020000
RRULE:FREQ=YEARLY;BYMONTH=3;BYDAY=2SU
END:DAYLIGHT
BEGIN:STANDARD
TZOFFSETFROM:-0700
TZOFFSETTO:-0800
TZNAME:PST
DTSTART:19701101T020000
RRULE:FREQ=YEARLY;BYMONTH=11;BYDAY=1SU
END:STANDARD
END:VTIMEZONE
BEGIN:VEVENT
UID:1464587:Event:405982
DTSTAMP:20260420T165851Z
SUMMARY:Party Lion Friday
DESCRIPTION:Spicey Promotions and Free City Presents:  #PARTYLIONFRIDA
 Y #PLF  Nicholas Alexander aka THE HOMEY NOLTE, & Makaela Susnow's (CA
 LI DIAMOND), & Kim Possible's B-Day Parlay\nLive Performances by: Deju
 an Love, Dat King Cole, Six Fif, Gordon Battles, Peach Street, Emcee I
 nfinite, and Lidah (Queen of the Bay), with DJ Igor Beatz in the mix. 
   WHERE: The Stork Club  FULL BAR, BACK PATIO, GAME ROOM....and The Ca
 li Diamond Girls will be in the building... #calidiamond 21+\nhttp://w
 ww.freecity.co https://www.facebook.com/events/558878164222719/  http:
 //www.storkcluboakland.com/\n\nFor more information visit http://trues
 kool.com/events/party-lion-friday
DTSTART;TZID=America/Los_Angeles:20140822T220000
DTEND;TZID=America/Los_Angeles:20140823T020000
CATEGORIES:party, lion, friday, plf, "fri.", aug, ".22", 2014, nolte, 
 mak, "&", kim, "possible's", b-day, parlay
LOCATION:Stork Club, Oakland, CA
WEBSITE:https://www.facebook.com/events/558878164222719/
URL:https://www.facebook.com/events/558878164222719/
CONTACT:415-226-8435
ORGANIZER:Free City
ATTACH;FMTTYPE="image/jpeg":http://storage.ning.com/topology/rest/1.0/
 file/get/2247965111?profile=original
ATTENDEE;ROLE=REQ-PARTICIPANT;PARTSTAT=ACCEPTED;RSVP=TRUE;CN="Makaela 
 Susnow":http://trueskool.com/profile/MakaelaSusnow
END:VEVENT
END:VCALENDAR
