BEGIN:VCALENDAR
PRODID:NingEventWidget-v1
VERSION:2.0
METHOD:PUBLISH
BEGIN:VTIMEZONE
TZID:America/Los_Angeles
X-LIC-LOCATION:America/Los_Angeles
BEGIN:DAYLIGHT
TZOFFSETFROM:-0800
TZOFFSETTO:-0700
TZNAME:PDT
DTSTART:19700308T020000
RRULE:FREQ=YEARLY;BYMONTH=3;BYDAY=2SU
END:DAYLIGHT
BEGIN:STANDARD
TZOFFSETFROM:-0700
TZOFFSETTO:-0800
TZNAME:PST
DTSTART:19701101T020000
RRULE:FREQ=YEARLY;BYMONTH=11;BYDAY=1SU
END:STANDARD
END:VTIMEZONE
BEGIN:VEVENT
UID:1464587:Event:652663
DTSTAMP:20260420T174044Z
SUMMARY:Party Don't Stop
DESCRIPTION:Party Don't Stop\nLive music event featuring energetic per
 formances by local pop, hip-hop and urban acts. This show will have pe
 rformances by Blaze Hon, Chico Manolo, Damo Payne and Imerald Brown.\n
 The special guest hostess of the evening will be Eye'z. People who att
 end the event will have the opportunity to win prizes. There will be a
  live audio podcast of event.\nThe event will be filmed/edited, posted
  online and aired on local tv.\nMutiny Radio Cafe 2781 21st. San Frani
 sco, CA 94110 at 8pm.\n\nAll ages event $10 at the door.\n510-606-5431
 \n\nFor more information visit http://trueskool.com/events/party-don-t
 -stop
DTSTART;TZID=America/Los_Angeles:20160828T200000
DTEND;TZID=America/Los_Angeles:20160828T220000
CATEGORIES:san, francisco, hip, hop, rap, bay, area, pop, music
LOCATION:Mutiny Radio
WEBSITE:
URL:
CONTACT:510-606-5431
ORGANIZER;CN="D Blk":http://trueskool.com/profile/DBlk
ATTACH;FMTTYPE="image/jpeg":http://storage.ning.com/topology/rest/1.0/
 file/get/2247990521?profile=original
ATTENDEE;ROLE=REQ-PARTICIPANT;PARTSTAT=ACCEPTED;RSVP=TRUE;CN="D Blk":h
 ttp://trueskool.com/profile/DBlk
END:VEVENT
END:VCALENDAR
