BEGIN:VCALENDAR
PRODID:NingEventWidget-v1
VERSION:2.0
METHOD:PUBLISH
BEGIN:VTIMEZONE
TZID:America/Los_Angeles
X-LIC-LOCATION:America/Los_Angeles
BEGIN:DAYLIGHT
TZOFFSETFROM:-0800
TZOFFSETTO:-0700
TZNAME:PDT
DTSTART:19700308T020000
RRULE:FREQ=YEARLY;BYMONTH=3;BYDAY=2SU
END:DAYLIGHT
BEGIN:STANDARD
TZOFFSETFROM:-0700
TZOFFSETTO:-0800
TZNAME:PST
DTSTART:19701101T020000
RRULE:FREQ=YEARLY;BYMONTH=11;BYDAY=1SU
END:STANDARD
END:VTIMEZONE
BEGIN:VEVENT
UID:1464587:Event:90310
DTSTAMP:20260420T152334Z
SUMMARY:Pandemic: Faust of Urban Assault, Hulk, Helicopter Showdown an
 d More
DESCRIPTION:From the same viral minds that brought you the Emissions C
 ampout and Ritual Thursdays, comes a new plague... PANDEMIC!\n\nStrip 
 down, put on your ass-less hospital gowns, and prepare for the quarant
 ine.\n\nYour infected selectors include...\n\nFAUST (OF URBAN ASSAULT 
 AND FAUST & SHORTEE)\nSPECIAL 2 HOUR SET!!!\nFrom Hip-Hop, Breaks & El
 ectro trick sets to crushing stateside Drum & Bass scratched to perfec
 tion; Faust & Shortee (aka Urban Assault) have awed masses worldwide. 
 Ranked as one of the top turntablists in the world by SPIN, Faust rele
 ased the first turntablist album in history, the critically lauded Man
  Or Myth and continues to push the boundaries of his production today 
 in various genres. URB’s Next 100, Playboy’s scratch diva & Fever/
 Buzz Battle of the DJs Champion, Shortee is acknowledged as one of the
  most diverse, technically skilled female DJs in the world and has bee
 n named “Queen of the Scratch World” by DJ Times. She produced the
  1st & only turntablist album by a female, her own DJ instructional DV
 D series & the 1st female-centric battle record “Bikini Wax” (5 St
 ar Records). Together their solo & team albums have earned them critic
 al acclaim in major publications like SPIN, URB, Rolling Stone etc & t
 heir music has been licensed by networks such as MTV, NBC, CNN, ABC & 
 ESPN.\n\nFor more information visit http://trueskool.com/events/pandem
 ic-faust-of-urban
DTSTART;TZID=America/Los_Angeles:20110723T210000
DTEND;TZID=America/Los_Angeles:20110724T040000
CATEGORIES:san, francisco, ca
LOCATION:MIGHTY, San Francisco
WEBSITE:https://www.facebook.com/event.php?eid=212590415444632
URL:https://www.facebook.com/event.php?eid=212590415444632
CONTACT:
ORGANIZER;CN="Carey Kopp":http://trueskool.com/profile/k85
ATTACH;FMTTYPE="image/jpeg":
ATTENDEE;ROLE=REQ-PARTICIPANT;PARTSTAT=ACCEPTED;RSVP=TRUE;CN="Carey Ko
 pp":http://trueskool.com/profile/k85
END:VEVENT
END:VCALENDAR
