BEGIN:VCALENDAR
PRODID:NingEventWidget-v1
VERSION:2.0
METHOD:PUBLISH
BEGIN:VTIMEZONE
TZID:America/Los_Angeles
X-LIC-LOCATION:America/Los_Angeles
BEGIN:DAYLIGHT
TZOFFSETFROM:-0800
TZOFFSETTO:-0700
TZNAME:PDT
DTSTART:19700308T020000
RRULE:FREQ=YEARLY;BYMONTH=3;BYDAY=2SU
END:DAYLIGHT
BEGIN:STANDARD
TZOFFSETFROM:-0700
TZOFFSETTO:-0800
TZNAME:PST
DTSTART:19701101T020000
RRULE:FREQ=YEARLY;BYMONTH=11;BYDAY=1SU
END:STANDARD
END:VTIMEZONE
BEGIN:VEVENT
UID:1464587:Event:655063
DTSTAMP:20260421T084801Z
SUMMARY:Pam The Funkstress Ultimate $5 Halloween Party
DESCRIPTION: FRIDAY, OCT 28 Pam The Funkstress Ultimate $5 Halloween P
 arty  with The Bruce Wayne Project ft. Ohenry & J'Juan, DJ Roy, Neah R
 ose Hosted by Al Attles lll & Poemography\nSlim's, San Francisco doors
  9pm/show 10pm Tickets are $5 advance/door >> BUY TICKETS\n\n\n\nFor m
 ore information visit http://trueskool.com/events/pam-the-funkstress-u
 ltimate-5-halloween-party
DTSTART;TZID=America/Los_Angeles:20161028T210000
DTEND;TZID=America/Los_Angeles:20161028T230000
CATEGORIES:"bay area", "san francisco"
LOCATION:Slim's, SF
WEBSITE:http://bit.ly/2esAqmk
URL:http://bit.ly/2esAqmk
CONTACT:
ORGANIZER:Slim's
ATTACH;FMTTYPE="image/jpeg":http://storage.ning.com/topology/rest/1.0/
 file/get/2057411671?profile=original
ATTENDEE;ROLE=REQ-PARTICIPANT;PARTSTAT=ACCEPTED;RSVP=TRUE;CN="Editor's
  Pick":http://trueskool.com/profile/RentheVinylArchaeologist
END:VEVENT
END:VCALENDAR
