BEGIN:VCALENDAR
PRODID:NingEventWidget-v1
VERSION:2.0
METHOD:PUBLISH
BEGIN:VTIMEZONE
TZID:America/Los_Angeles
X-LIC-LOCATION:America/Los_Angeles
BEGIN:DAYLIGHT
TZOFFSETFROM:-0800
TZOFFSETTO:-0700
TZNAME:PDT
DTSTART:19700308T020000
RRULE:FREQ=YEARLY;BYMONTH=3;BYDAY=2SU
END:DAYLIGHT
BEGIN:STANDARD
TZOFFSETFROM:-0700
TZOFFSETTO:-0800
TZNAME:PST
DTSTART:19701101T020000
RRULE:FREQ=YEARLY;BYMONTH=11;BYDAY=1SU
END:STANDARD
END:VTIMEZONE
BEGIN:VEVENT
UID:1464587:Event:411415
DTSTAMP:20260420T223052Z
SUMMARY:\"Overjoyed\" 80's + 90's Throwback Boat Party
DESCRIPTION:Take in the sparkling views of Bay Area while dancing to t
 he very best of the 80's and 90's: dance floor classics, soul stirring
  bangers and crafty remixes with B.A.S.S. DJ's Zita and Pam the Funkst
 ress! Advance Tickets On Sale Now!http://overjoyed.eventbrite.com/Cel
 ebrations on the Bay : RiverboatJack London Square, Foot of BroadwayOa
 kland, CA / 21 & Over / Limited CapacityLoading Begins at 8pmBoat Depa
 rts at 9pm / Returns at 12amAbout the Boat:“Bay Celebrations” is a
  locally owned, double decked riverboat style vessel powered by twin e
 ngines. The boat is wheel chair accessible and features a full bar and
  indoor / outdoor areas. The boat moves very slowly for maximum comfor
 t and will tour the lovely waters of the SF Bay with viewings of the B
 ay Bridge, Golden Gate and Alcatraz. Meeting place will be at Jack Lon
 don Sq, between Lungomare and Scott’s Restaurant.\n\n \n\n \n  Adv
 ance Tickets:  overjoyed.eventbrite.com \n\n\n\nFor more information
  visit http://trueskool.com/events/overjoyed-80-s-90-s-throwback-boat-
 party
DTSTART;TZID=America/Los_Angeles:20140919T200000
DTEND;TZID=America/Los_Angeles:20140920T000000
CATEGORIES:oakland, boat, party, 80s, 90s, pam, the, funkstress, dj, z
 ita, classics, soulful, hits
LOCATION:Jack London Sq. Oakland, CA
WEBSITE:http://www.overjoyed.eventbrite.com
URL:http://www.overjoyed.eventbrite.com
CONTACT:
ORGANIZER;CN="miss candi":http://trueskool.com/profile/misscandi
ATTACH;FMTTYPE="image/jpeg":http://storage.ning.com/topology/rest/1.0/
 file/get/2247965713?profile=original
ATTENDEE;ROLE=REQ-PARTICIPANT;PARTSTAT=ACCEPTED;RSVP=TRUE;CN="miss can
 di":http://trueskool.com/profile/misscandi
END:VEVENT
END:VCALENDAR
