BEGIN:VCALENDAR
PRODID:NingEventWidget-v1
VERSION:2.0
METHOD:PUBLISH
BEGIN:VTIMEZONE
TZID:America/Los_Angeles
X-LIC-LOCATION:America/Los_Angeles
BEGIN:DAYLIGHT
TZOFFSETFROM:-0800
TZOFFSETTO:-0700
TZNAME:PDT
DTSTART:19700308T020000
RRULE:FREQ=YEARLY;BYMONTH=3;BYDAY=2SU
END:DAYLIGHT
BEGIN:STANDARD
TZOFFSETFROM:-0700
TZOFFSETTO:-0800
TZNAME:PST
DTSTART:19701101T020000
RRULE:FREQ=YEARLY;BYMONTH=11;BYDAY=1SU
END:STANDARD
END:VTIMEZONE
BEGIN:VEVENT
UID:1464587:Event:646961
DTSTAMP:20260420T102209Z
SUMMARY:Outside Lands
DESCRIPTION:Outside Lands\nRadiohead, LCD Soundsystem, Lionel Richie, 
 Lana Del Rey, J. Cole, Duran Duran, Zedd, Ryan Adams, Major Lazer, Air
 , Sufjan Stevens, and many more!Friday, August 5 2016 - Sunday, August
  7 201612:00 PMGolden Gate ParkSan Francisco, CA\n\nFor more informati
 on visit http://trueskool.com/events/outside-lands-2
DTSTART;TZID=America/Los_Angeles:20160805T120000
DTEND;TZID=America/Los_Angeles:20160805T230000
CATEGORIES:"san francisco", oakland, berkley, "san jose", "bay area"
LOCATION:Golden Gate Park, San Francisco
WEBSITE:http://www.sfoutsidelands.com/tickets
URL:http://www.sfoutsidelands.com/tickets
CONTACT:
ORGANIZER;CN="Editor's Pick":http://trueskool.com/profile/RentheVinylA
 rchaeologist
ATTACH;FMTTYPE="image/jpeg":http://storage.ning.com/topology/rest/1.0/
 file/get/2247996193?profile=original
ATTENDEE;ROLE=REQ-PARTICIPANT;PARTSTAT=ACCEPTED;RSVP=TRUE;CN="Editor's
  Pick":http://trueskool.com/profile/RentheVinylArchaeologist
END:VEVENT
END:VCALENDAR
