BEGIN:VCALENDAR
PRODID:NingEventWidget-v1
VERSION:2.0
METHOD:PUBLISH
BEGIN:VTIMEZONE
TZID:America/Los_Angeles
X-LIC-LOCATION:America/Los_Angeles
BEGIN:DAYLIGHT
TZOFFSETFROM:-0800
TZOFFSETTO:-0700
TZNAME:PDT
DTSTART:19700308T020000
RRULE:FREQ=YEARLY;BYMONTH=3;BYDAY=2SU
END:DAYLIGHT
BEGIN:STANDARD
TZOFFSETFROM:-0700
TZOFFSETTO:-0800
TZNAME:PST
DTSTART:19701101T020000
RRULE:FREQ=YEARLY;BYMONTH=11;BYDAY=1SU
END:STANDARD
END:VTIMEZONE
BEGIN:VEVENT
UID:1464587:Event:290636
DTSTAMP:20260420T232055Z
SUMMARY:OTN This & Every Saturday @ Cameo
DESCRIPTION:OWN THE NIGHT\n@ CAMEO\n1445 Washington Ave \nEach & Ever
 y Saturday Night\nSounds By \nEntice |    A Fly Guy\nBulletproof | 
 Fergie & Springer\n\nFor more information visit http://trueskool.com/e
 vents/otn-this-every-saturday-cameo
DTSTART;TZID=America/Los_Angeles:20140104T150000
DTEND;TZID=America/Los_Angeles:20140104T190000
CATEGORIES:cameo, miami, beach, florida
LOCATION:Cameo, Miami Beach
WEBSITE:
URL:
CONTACT:
ORGANIZER;CN="Rockers Island":http://trueskool.com/profile/RockersIsla
 nd
ATTACH;FMTTYPE="image/jpeg":http://storage.ning.com/topology/rest/1.0/
 file/get/2247956251?profile=original
ATTENDEE;ROLE=REQ-PARTICIPANT;PARTSTAT=ACCEPTED;RSVP=TRUE;CN="Rockers 
 Island":http://trueskool.com/profile/RockersIsland
END:VEVENT
END:VCALENDAR
