BEGIN:VCALENDAR
PRODID:NingEventWidget-v1
VERSION:2.0
METHOD:PUBLISH
BEGIN:VTIMEZONE
TZID:America/Los_Angeles
X-LIC-LOCATION:America/Los_Angeles
BEGIN:DAYLIGHT
TZOFFSETFROM:-0800
TZOFFSETTO:-0700
TZNAME:PDT
DTSTART:19700308T020000
RRULE:FREQ=YEARLY;BYMONTH=3;BYDAY=2SU
END:DAYLIGHT
BEGIN:STANDARD
TZOFFSETFROM:-0700
TZOFFSETTO:-0800
TZNAME:PST
DTSTART:19701101T020000
RRULE:FREQ=YEARLY;BYMONTH=11;BYDAY=1SU
END:STANDARD
END:VTIMEZONE
BEGIN:VEVENT
UID:1464587:Event:298651
DTSTAMP:20260420T214836Z
SUMMARY:OTN Hosted By: Brandon Phillips & Karlos Dansby| Sat Jan 18 @ 
 Cameo
DESCRIPTION:OTN\n@\nCAMEO\n1445 Washington Ave \nBrandon Phillips \n
 of the Cincinnati Reds \n&\nKarlos Dansby \nof the Arizona Cardinals
 \n\nMusic By: Entice| Bulletproof | Fergie & Springer\n\nFor more info
 rmation visit http://trueskool.com/events/otn-hosted-by-brandon-philli
 ps-karlos-dansby-sat-jan-18-cameo
DTSTART;TZID=America/Los_Angeles:20140118T230000
DTEND;TZID=America/Los_Angeles:20140119T050000
CATEGORIES:cameo
LOCATION:Cameo, Miami Beach
WEBSITE:
URL:
CONTACT:305-438-9488
ORGANIZER;CN="Rockers Island":http://trueskool.com/profile/RockersIsla
 nd
ATTACH;FMTTYPE="image/jpeg":http://storage.ning.com/topology/rest/1.0/
 file/get/2247957114?profile=original
ATTENDEE;ROLE=REQ-PARTICIPANT;PARTSTAT=ACCEPTED;RSVP=TRUE;CN="Rockers 
 Island":http://trueskool.com/profile/RockersIsland
END:VEVENT
END:VCALENDAR
