BEGIN:VCALENDAR
PRODID:NingEventWidget-v1
VERSION:2.0
METHOD:PUBLISH
BEGIN:VTIMEZONE
TZID:America/Los_Angeles
X-LIC-LOCATION:America/Los_Angeles
BEGIN:DAYLIGHT
TZOFFSETFROM:-0800
TZOFFSETTO:-0700
TZNAME:PDT
DTSTART:19700308T020000
RRULE:FREQ=YEARLY;BYMONTH=3;BYDAY=2SU
END:DAYLIGHT
BEGIN:STANDARD
TZOFFSETFROM:-0700
TZOFFSETTO:-0800
TZNAME:PST
DTSTART:19701101T020000
RRULE:FREQ=YEARLY;BYMONTH=11;BYDAY=1SU
END:STANDARD
END:VTIMEZONE
BEGIN:VEVENT
UID:1464587:Event:640441
DTSTAMP:20260421T040020Z
SUMMARY:JOSÉ JAMES QUARTET
DESCRIPTION:JOSÉ JAMES QUARTET Wednesday Mar 30, 2016 Doors: 7:30 PM 
  Show: 8:00 PM $27 - $57\nYoshi's Oakland\n510 Embarcadero West  Oakla
 nd, CA\n\n\n\nFor more information visit http://trueskool.com/events/o
 se-james-quartet
DTSTART;TZID=America/Los_Angeles:20160330T200000
DTEND;TZID=America/Los_Angeles:20160330T230000
CATEGORIES:"san francisco", oakland, berkley, "san jose", "bay area"
LOCATION:Yoshi's, Oakland
WEBSITE:https://www.ticketfly.com/purchase/event/997635?_ga=1.14575109
 2.107816801.1452016509
URL:https://www.ticketfly.com/purchase/event/997635?_ga=1.145751092.10
 7816801.1452016509
CONTACT:
ORGANIZER;CN="Editor's Pick":http://trueskool.com/profile/RentheVinylA
 rchaeologist
ATTACH;FMTTYPE="image/jpeg":http://storage.ning.com/topology/rest/1.0/
 file/get/2247983318?profile=original
ATTENDEE;ROLE=REQ-PARTICIPANT;PARTSTAT=ACCEPTED;RSVP=TRUE;CN="Donte Ha
 rrison":http://trueskool.com/profile/DonteHarrison
ATTENDEE;ROLE=REQ-PARTICIPANT;PARTSTAT=ACCEPTED;RSVP=TRUE;CN="Editor's
  Pick":http://trueskool.com/profile/RentheVinylArchaeologist
END:VEVENT
END:VCALENDAR
