BEGIN:VCALENDAR
PRODID:NingEventWidget-v1
VERSION:2.0
METHOD:PUBLISH
BEGIN:VTIMEZONE
TZID:America/Los_Angeles
X-LIC-LOCATION:America/Los_Angeles
BEGIN:DAYLIGHT
TZOFFSETFROM:-0800
TZOFFSETTO:-0700
TZNAME:PDT
DTSTART:19700308T020000
RRULE:FREQ=YEARLY;BYMONTH=3;BYDAY=2SU
END:DAYLIGHT
BEGIN:STANDARD
TZOFFSETFROM:-0700
TZOFFSETTO:-0800
TZNAME:PST
DTSTART:19701101T020000
RRULE:FREQ=YEARLY;BYMONTH=11;BYDAY=1SU
END:STANDARD
END:VTIMEZONE
BEGIN:VEVENT
UID:1464587:Event:651398
DTSTAMP:20260420T115853Z
SUMMARY:Orishas at Mezzanine
DESCRIPTION:+ Los Rakas (Panama/Oakland), DJ Leydis (Cuba), Walt Digz,
  DJ Julicio (Chile), hosted by Raw G (Gina Madrid)\n\nOrishas are a L
 atin rap group of Cuban expatriates whose debut album, A Lo Cubano (20
 00), was internationally acclaimed and whose subsequent albums found t
 hem furthering their fusion of Latin rhythms and melodies with hip-hop
 . In collaboration with producer Nicolas Nocchi (aka Niko Noki), Orish
 as made their full-length album debut in 2000 with A Lo Cubano, a grou
 ndbreaking Latin rap album that fused Afro-Cuban rhythms, hip-hop beat
 s, melodic singing, and socially conscious raps to international accla
 im. Reduced to a trio after the departure of Flaco-Pro, Orishas refine
 d their musical fusion on their second album, Emigrante (2002), which 
 was more melodic than their debut, to the chagrin of some fans who fav
 ored the group’s rapping to their singing. El Kilo (2005), the third
  Orishas album, was a further refinement of the group’s musical fusi
 on. Moreover, El Kilo continued to broaden the group’s popularity, p
 articularly in Europe, where the album charted in France, Belgium, Swi
 tzerland, Spain, and Portugal. A triple-disc CD/DVD compilation, Antid
 iotico (2007), was subsequently assembled, compiling highlights of the
  group’s three albums to date alongside remixes, non-album material,
  and a couple new recordings, plus videos. Cosita Buena (2008), the fo
 urth Orishas album, followed a year later and again found the group ev
 olving musically.\nAfter lengthy touring that took the trio to numerou
 s music fesitvals in Latin America and Europe, Orishas went silent wit
 rh each of its members living in a different European city and pursuin
 g individual songwriting, producing and arranging projects. In January
  2016, Yotuel took to the band’s Facebook page to announce that the 
 trio were recording an album of new material tobe issued later in the 
 year.\n\n\n\nFor more information visit http://trueskool.com/events/or
 ishas-at-mezzanine
DTSTART;TZID=America/Los_Angeles:20160902T210000
DTEND;TZID=America/Los_Angeles:20160903T020000
CATEGORIES:"san francisco", "bay area"
LOCATION:Mezzanine, San Francisco
WEBSITE:http://mezzaninesf.com/events/orishas/
URL:http://mezzaninesf.com/events/orishas/
CONTACT:415.625.8880
ORGANIZER:Mezzanine
ATTACH;FMTTYPE="image/jpeg":http://storage.ning.com/topology/rest/1.0/
 file/get/2247989207?profile=original
ATTENDEE;ROLE=REQ-PARTICIPANT;PARTSTAT=ACCEPTED;RSVP=TRUE;CN=Mezzanine
 SF:http://trueskool.com/profile/MezzanineSF
END:VEVENT
END:VCALENDAR
