BEGIN:VCALENDAR
PRODID:NingEventWidget-v1
VERSION:2.0
METHOD:PUBLISH
BEGIN:VTIMEZONE
TZID:America/Los_Angeles
X-LIC-LOCATION:America/Los_Angeles
BEGIN:DAYLIGHT
TZOFFSETFROM:-0800
TZOFFSETTO:-0700
TZNAME:PDT
DTSTART:19700308T020000
RRULE:FREQ=YEARLY;BYMONTH=3;BYDAY=2SU
END:DAYLIGHT
BEGIN:STANDARD
TZOFFSETFROM:-0700
TZOFFSETTO:-0800
TZNAME:PST
DTSTART:19701101T020000
RRULE:FREQ=YEARLY;BYMONTH=11;BYDAY=1SU
END:STANDARD
END:VTIMEZONE
BEGIN:VEVENT
UID:1464587:Event:577107
DTSTAMP:20260420T214407Z
SUMMARY:Open Format : Shortkut, Teeko, Audio1
DESCRIPTION:\nNeck of the Woods and Kings of Theme present OPEN FORMAT
 .  SHORTKUT Beat Junkie Sound / Triple Threat DJs / Invisibl Skratch P
 iklz  TEEKO 4OneFunk / Starship Connection   AUDIO1  Clubbers Commute 
 / Intl Party   Neck of the Woods / hosted by DJ Dave Paul / 9pm\n$8 ad
 v, $10 door / 21+ Advance Tickets at http://bit.ly/of030615tix\n\nFor 
 more information visit http://trueskool.com/events/open-format-shortku
 t-teeko-audio1
DTSTART;TZID=America/Los_Angeles:20150306T210000
DTEND;TZID=America/Los_Angeles:20150307T013000
CATEGORIES:san, francisco, neck, of, the, woods
LOCATION:Neck of the Woods, San Francisco, CA
WEBSITE:https://www.facebook.com/events/852949678096637
URL:https://www.facebook.com/events/852949678096637
CONTACT:
ORGANIZER;CN="Dave Paul":http://trueskool.com/profile/DavePaul
ATTACH;FMTTYPE="image/jpeg":http://storage.ning.com/topology/rest/1.0/
 file/get/2247974711?profile=original
ATTENDEE;ROLE=REQ-PARTICIPANT;PARTSTAT=ACCEPTED;RSVP=TRUE;CN="Dave Pau
 l":http://trueskool.com/profile/DavePaul
END:VEVENT
END:VCALENDAR
