BEGIN:VCALENDAR
PRODID:NingEventWidget-v1
VERSION:2.0
METHOD:PUBLISH
BEGIN:VTIMEZONE
TZID:America/Los_Angeles
X-LIC-LOCATION:America/Los_Angeles
BEGIN:DAYLIGHT
TZOFFSETFROM:-0800
TZOFFSETTO:-0700
TZNAME:PDT
DTSTART:19700308T020000
RRULE:FREQ=YEARLY;BYMONTH=3;BYDAY=2SU
END:DAYLIGHT
BEGIN:STANDARD
TZOFFSETFROM:-0700
TZOFFSETTO:-0800
TZNAME:PST
DTSTART:19701101T020000
RRULE:FREQ=YEARLY;BYMONTH=11;BYDAY=1SU
END:STANDARD
END:VTIMEZONE
BEGIN:VEVENT
UID:1464587:Event:291570
DTSTAMP:20260420T212235Z
SUMMARY:Opel Presents Stanton Warriors
DESCRIPTION:\n\nMighty and Opel are teaming up to bring you the kings 
 of breaks: Stanton WarriorsSince bursting onto the global scene with 
 their multi-award winning compilation “The Stanton Session” back i
 n 2001, the inimitable sound of the Stanton Warriors has consistently 
 pushed the boundaries of musical class. A strict reluctance to conform
  to any one style or scene – combined with an effortless ability to 
 blue the lines between the genres it encompasses – has provided the 
 Warriors with a sound that is all their own: an indefinable yet insta
 ntly recognizable x-factor that has ensure their productions and live 
 performances have remained head and shoulders above the best efforts o
 f the competition.For over a decade, their irresistible beats & bass c
 ombo has been the soundtrack to the world’s biggest and best parties
 , from the likes of Glastonbury to Global Gathering, Summadayze to Sno
 wbombing, and Exit to Electric Daisy Carnival, along with countless se
 ll-out tours of North America, the Far East, Australia and beyond. Whe
 ther it’s brining their unique sound to an ever increasing worldwide
  fanbase, or putting out critically-acclaimed remixed and original pro
 ductions through their own record label Punks, the trademark quality a
 nd innovation that has pushed them to the pinnacle of their profession
  is as much a part of the Stanton sound today as it ever has been.\n\n
 \n\n\nFor more information visit http://trueskool.com/events/opel-pres
 ents-stanton-warriors
DTSTART;TZID=America/Los_Angeles:20140125T210000
DTEND;TZID=America/Los_Angeles:20140126T030000
CATEGORIES:san, francisco, california
LOCATION:MIghty, San Francisco
WEBSITE:http://www.opelproductions.com
URL:http://www.opelproductions.com
CONTACT:
ORGANIZER:Mighty SF
ATTACH;FMTTYPE="image/jpeg":
ATTENDEE;ROLE=REQ-PARTICIPANT;PARTSTAT=ACCEPTED;RSVP=TRUE;CN="Alexandr
 a Alden":http://trueskool.com/profile/AlexandraAlden
END:VEVENT
END:VCALENDAR
