BEGIN:VCALENDAR
PRODID:NingEventWidget-v1
VERSION:2.0
METHOD:PUBLISH
BEGIN:VTIMEZONE
TZID:America/Los_Angeles
X-LIC-LOCATION:America/Los_Angeles
BEGIN:DAYLIGHT
TZOFFSETFROM:-0800
TZOFFSETTO:-0700
TZNAME:PDT
DTSTART:19700308T020000
RRULE:FREQ=YEARLY;BYMONTH=3;BYDAY=2SU
END:DAYLIGHT
BEGIN:STANDARD
TZOFFSETFROM:-0700
TZOFFSETTO:-0800
TZNAME:PST
DTSTART:19701101T020000
RRULE:FREQ=YEARLY;BYMONTH=11;BYDAY=1SU
END:STANDARD
END:VTIMEZONE
BEGIN:VEVENT
UID:1464587:Event:649702
DTSTAMP:20260421T130544Z
SUMMARY:OIM Presents: Zakiya Harris & Elephantine, Ghost & The City, &
  Queens D. Light
DESCRIPTION:Zakiya Harris & Elephantine, Ghost & The City, & Queens D.
  Light Doors 8pm, Show 9pm Tix $10 adv / $12 dos\nCome enjoy some of t
 hem good Oakland vibes. OIM Presents Zakiya Harris & Elephantine along
  with Ghost & the City & Queens D. Light to keep you dancing with the 
 fam all night.\nwww.zakiyaharris.com www.ghostandthecity.com www.queen
 sdlight.com www.oaktownindiemayhem.com\nFb Invite: https://www.faceboo
 k.com/events/984912564924937/\n\nFor more information visit http://tru
 eskool.com/events/oim-presents-zakiya-harris-elephantine-ghost-the-cit
 y-queens-d
DTSTART;TZID=America/Los_Angeles:20160623T200000
DTEND;TZID=America/Los_Angeles:20160623T234500
CATEGORIES:oakland, "bay area", "east bay"
LOCATION:Starline Social Club, Oakland, CA
WEBSITE:https://www.eventbrite.com/e/zakiya-harris-elephantine-ghost-t
 he-city-queens-d-light-tickets-24828961091
URL:https://www.eventbrite.com/e/zakiya-harris-elephantine-ghost-the-c
 ity-queens-d-light-tickets-24828961091
CONTACT:5103025423
ORGANIZER:Oaktown Indie Mayhem
ATTACH;FMTTYPE="image/jpeg":http://storage.ning.com/topology/rest/1.0/
 file/get/2247988242?profile=original
ATTENDEE;ROLE=REQ-PARTICIPANT;PARTSTAT=ACCEPTED;RSVP=TRUE;CN="Sarah Se
 xton":http://trueskool.com/profile/SarahSexton
END:VEVENT
END:VCALENDAR
