BEGIN:VCALENDAR
PRODID:NingEventWidget-v1
VERSION:2.0
METHOD:PUBLISH
BEGIN:VTIMEZONE
TZID:America/Los_Angeles
X-LIC-LOCATION:America/Los_Angeles
BEGIN:DAYLIGHT
TZOFFSETFROM:-0800
TZOFFSETTO:-0700
TZNAME:PDT
DTSTART:19700308T020000
RRULE:FREQ=YEARLY;BYMONTH=3;BYDAY=2SU
END:DAYLIGHT
BEGIN:STANDARD
TZOFFSETFROM:-0700
TZOFFSETTO:-0800
TZNAME:PST
DTSTART:19701101T020000
RRULE:FREQ=YEARLY;BYMONTH=11;BYDAY=1SU
END:STANDARD
END:VTIMEZONE
BEGIN:VEVENT
UID:1464587:Event:408145
DTSTAMP:20260420T134612Z
SUMMARY:OHM Syndicate presents: GRÜV!
DESCRIPTION:GRÜV is the newest, freshest house music party in Oakland
 ! Beats are served on THE BEST sound system in the East Bay (seriously
 , this custom OPUS Audio system ROCKS)!! Cool drink specials; casual v
 ibe; smiles and good people throughout. Every 1st & 3rd Wednesday nigh
 t in the heart of Old Oakland at Parliament.\n \nPresented to you by:
 \nOHM (Oakland House Music) Syndicate\nhttp://www.instagram.com/GRUVoa
 kland\n\nFor more information visit http://trueskool.com/events/ohm-sy
 ndicate-presents-gr-v-3
DTSTART;TZID=America/Los_Angeles:20140903T200000
DTEND;TZID=America/Los_Angeles:20140904T010000
CATEGORIES:"san francisco", "bay area", oakland
LOCATION:Parliament, Oakland
WEBSITE:https://www.facebook.com/events/608040209309782
URL:https://www.facebook.com/events/608040209309782
CONTACT:
ORGANIZER;CN="OHM Syndicate":http://trueskool.com/profile/OHMSyndicate
ATTACH;FMTTYPE="image/jpeg":http://storage.ning.com/topology/rest/1.0/
 file/get/2247965646?profile=original
ATTENDEE;ROLE=REQ-PARTICIPANT;PARTSTAT=ACCEPTED;RSVP=TRUE;CN="OHM Synd
 icate":http://trueskool.com/profile/OHMSyndicate
END:VEVENT
END:VCALENDAR
