BEGIN:VCALENDAR
PRODID:NingEventWidget-v1
VERSION:2.0
METHOD:PUBLISH
BEGIN:VTIMEZONE
TZID:America/Los_Angeles
X-LIC-LOCATION:America/Los_Angeles
BEGIN:DAYLIGHT
TZOFFSETFROM:-0800
TZOFFSETTO:-0700
TZNAME:PDT
DTSTART:19700308T020000
RRULE:FREQ=YEARLY;BYMONTH=3;BYDAY=2SU
END:DAYLIGHT
BEGIN:STANDARD
TZOFFSETFROM:-0700
TZOFFSETTO:-0800
TZNAME:PST
DTSTART:19701101T020000
RRULE:FREQ=YEARLY;BYMONTH=11;BYDAY=1SU
END:STANDARD
END:VTIMEZONE
BEGIN:VEVENT
UID:1464587:Event:488368
DTSTAMP:20260420T202401Z
SUMMARY:OFFICIAL ladies night out every 2nd Fridays of each month
DESCRIPTION:Official ladies night out every 2nd Friday of each month h
 osted by DG ENTERTAINMENT this event is for the grown n sexy 30& over 
 ...red carpet event for bottle service call 510 5758054\n\nFor more in
 formation visit http://trueskool.com/events/official-ladies-night-out-
 every-2nd-fridays-of-each-month
DTSTART;TZID=America/Los_Angeles:20141212T200000
DTEND;TZID=America/Los_Angeles:20141213T020000
CATEGORIES:bay, area
LOCATION:shadows ultra lounge
WEBSITE:
URL:
CONTACT:510 5758054
ORGANIZER;CN="DG ENTERTAINMENT":http://trueskool.com/profile/DGENTERTA
 INMENT
ATTACH;FMTTYPE="image/jpeg":http://storage.ning.com/topology/rest/1.0/
 file/get/2068665370?profile=original
ATTENDEE;ROLE=REQ-PARTICIPANT;PARTSTAT=ACCEPTED;RSVP=TRUE;CN="DG ENTER
 TAINMENT":http://trueskool.com/profile/DGENTERTAINMENT
END:VEVENT
END:VCALENDAR
