BEGIN:VCALENDAR
PRODID:NingEventWidget-v1
VERSION:2.0
METHOD:PUBLISH
BEGIN:VTIMEZONE
TZID:America/Los_Angeles
X-LIC-LOCATION:America/Los_Angeles
BEGIN:DAYLIGHT
TZOFFSETFROM:-0800
TZOFFSETTO:-0700
TZNAME:PDT
DTSTART:19700308T020000
RRULE:FREQ=YEARLY;BYMONTH=3;BYDAY=2SU
END:DAYLIGHT
BEGIN:STANDARD
TZOFFSETFROM:-0700
TZOFFSETTO:-0800
TZNAME:PST
DTSTART:19701101T020000
RRULE:FREQ=YEARLY;BYMONTH=11;BYDAY=1SU
END:STANDARD
END:VTIMEZONE
BEGIN:VEVENT
UID:1464587:Event:513559
DTSTAMP:20260420T184324Z
SUMMARY:OFFICIAL BIRTHDAY CELEBRATION FOR DJ J12 @ GRAND OPENING OF FA
 ZE
DESCRIPTION:GET UR LIFE PRODUCTIONS/ DJ RAPTURE Presents   The New 
 Club FAZE Every 3rd Friday for the 21+  We are celebrating our Residen
 t Dj, DJ J12 Birthday..   Special Guests will be in the building.. 
  Resident DJ's: Jacatac J12 Rapture  Live in the mix playing all the 
 hits from Bay Hits, Hip-Hop, Top 40 to Old School   Cover $10  ***Thi
 s new party is a party for Everyone and Everyone is welcome (LGBT, Ope
 nminded, and Etc.) Partying all under one roof in a safe, fun environm
 ent.***  ***PLEASE SPREAD THE WORD***\n\nFor more information visit ht
 tp://trueskool.com/events/official-birthday-celebration-for-dj-j12-gra
 nd-opening-of-faze
DTSTART;TZID=America/Los_Angeles:20150116T220000
DTEND;TZID=America/Los_Angeles:20150117T020000
CATEGORIES:oakland, sf, bayarea, richmond, san, francisco, hayward, jo
 se
LOCATION:Oakland
WEBSITE:
URL:
CONTACT:
ORGANIZER;CN="Ronnie Jones":http://trueskool.com/profile/RonnieJones
ATTACH;FMTTYPE="image/jpeg":http://storage.ning.com/topology/rest/1.0/
 file/get/2247971896?profile=original
END:VEVENT
END:VCALENDAR
