BEGIN:VCALENDAR
PRODID:NingEventWidget-v1
VERSION:2.0
METHOD:PUBLISH
BEGIN:VTIMEZONE
TZID:America/Los_Angeles
X-LIC-LOCATION:America/Los_Angeles
BEGIN:DAYLIGHT
TZOFFSETFROM:-0800
TZOFFSETTO:-0700
TZNAME:PDT
DTSTART:19700308T020000
RRULE:FREQ=YEARLY;BYMONTH=3;BYDAY=2SU
END:DAYLIGHT
BEGIN:STANDARD
TZOFFSETFROM:-0700
TZOFFSETTO:-0800
TZNAME:PST
DTSTART:19701101T020000
RRULE:FREQ=YEARLY;BYMONTH=11;BYDAY=1SU
END:STANDARD
END:VTIMEZONE
BEGIN:VEVENT
UID:1464587:Event:646758
DTSTAMP:20260420T231735Z
SUMMARY:Oddisee
DESCRIPTION:\nOddisee\nThursday, May 26 2016Doors: 8:30 pm / SHOW: 9:0
 0 PMThe IndependentSan Francisco, CA$20.00\n\nFor more information vis
 it http://trueskool.com/events/oddisee
DTSTART;TZID=America/Los_Angeles:20160526T203000
DTEND;TZID=America/Los_Angeles:20160526T230000
CATEGORIES:"san francisco", oakland, berkley, "san jose", "bay area"
LOCATION:The Independent, San Francisco
WEBSITE:https://www.ticketfly.com/purchase/event/1141081?_ga=1.1698217
 93.1300263318.1459888332&q=1c137d0e-5175-4991-8dc1-4e2c08ef5079&p=f8f9
 bf39-9c96-49c6-a97e-979d4997757b&ts=1459888435&c=ticketfly&e=0010a&rt=
 Safetynet&h=0cae5db6af2f81e74ac5272a5ca1285b
URL:https://www.ticketfly.com/purchase/event/1141081?_ga=1.169821793.1
 300263318.1459888332&q=1c137d0e-5175-4991-8dc1-4e2c08ef5079&p=f8f9bf39
 -9c96-49c6-a97e-979d4997757b&ts=1459888435&c=ticketfly&e=0010a&rt=Safe
 tynet&h=0cae5db6af2f81e74ac5272a5ca1285b
CONTACT:
ORGANIZER;CN="Editor's Pick":http://trueskool.com/profile/RentheVinylA
 rchaeologist
ATTACH;FMTTYPE="image/jpeg":http://storage.ning.com/topology/rest/1.0/
 file/get/2247987204?profile=original
ATTENDEE;ROLE=REQ-PARTICIPANT;PARTSTAT=ACCEPTED;RSVP=TRUE;CN="Editor's
  Pick":http://trueskool.com/profile/RentheVinylArchaeologist
END:VEVENT
END:VCALENDAR
