BEGIN:VCALENDAR
PRODID:NingEventWidget-v1
VERSION:2.0
METHOD:PUBLISH
BEGIN:VTIMEZONE
TZID:America/Los_Angeles
X-LIC-LOCATION:America/Los_Angeles
BEGIN:DAYLIGHT
TZOFFSETFROM:-0800
TZOFFSETTO:-0700
TZNAME:PDT
DTSTART:19700308T020000
RRULE:FREQ=YEARLY;BYMONTH=3;BYDAY=2SU
END:DAYLIGHT
BEGIN:STANDARD
TZOFFSETFROM:-0700
TZOFFSETTO:-0800
TZNAME:PST
DTSTART:19701101T020000
RRULE:FREQ=YEARLY;BYMONTH=11;BYDAY=1SU
END:STANDARD
END:VTIMEZONE
BEGIN:VEVENT
UID:1464587:Event:694202
DTSTAMP:20260424T071858Z
SUMMARY:NYE Ozomatli and Cut Chemist in Berkeley
DESCRIPTION:New Years Eve with Ozomatli and special guest Cut Chemist 
 Tuesday, December 31, 2019 at Cornerstone in Berkeley. ¡Celebre la v
 spera de Año Nuevo con una mezcla de salsa, hip-hop y jazz-funk, del
  ganador del Grammy de LA, Ozomatli y Cut Chemist!  All Ages Doors 7:3
 0pm / Show 8:30pm  Ticket Link: https://www.eventbrite.com/e/ozomatli-
 with-cut-chemist-tickets-74053872125  Since its inception in 1995, inn
 ovation and creativity have defined Ozomatli. Hailing from Los Angeles
 , the group found a way to represent the city’s eclectic culture thr
 ough music that appeals to the local community and the world beyond. O
 zomatli’s success is exemplified in an impressive variety of genres 
 from classic to modern Latino, urban, hip-hop and other world styles. 
 The “Dioses del Baile,” or “Gods of Dance,” have created one o
 f the most exciting, captivating and flat-out fun live shows touring t
 oday. They continue to harness their musical instincts by conceiving n
 ew concepts and forging new sounds that keep fans on their toes and th
 e world dancing.\n\nFor more information visit http://trueskool.com/ev
 ents/nye-ozomatli-amp-cut-chemist-in-berkeley
DTSTART;TZID=America/Los_Angeles:20191231T193000
DTEND;TZID=America/Los_Angeles:20200101T010000
CATEGORIES:berkeley, "bay area"
LOCATION:Cornerstone, Berkeley
WEBSITE:https://www.cornerstoneberkeley.com/music-venue/
URL:https://www.cornerstoneberkeley.com/music-venue/
CONTACT:(510) 214-8600
ORGANIZER;CN="bryce dow-williamson":http://trueskool.com/profile/bryce
 dowwilliamson
ATTACH;FMTTYPE="image/jpeg":https://storage.ning.com/topology/rest/1.0
 /file/get/3788371272?profile=original
ATTENDEE;ROLE=REQ-PARTICIPANT;PARTSTAT=ACCEPTED;RSVP=TRUE;CN="bryce do
 w-williamson":http://trueskool.com/profile/brycedowwilliamson
END:VEVENT
END:VCALENDAR
